BEGIN:VCALENDAR
VERSION:2.0
PRODID:-//ChamberMaster//Event Calendar 2.0//EN
METHOD:PUBLISH
X-PUBLISHED-TTL:P3D
REFRESH-INTERVAL:P3D
CALSCALE:GREGORIAN
BEGIN:VEVENT
DTSTART:20191005T150000Z
DTEND:20191005T210000Z
X-MICROSOFT-CDO-ALLDAYEVENT:FALSE
SUMMARY:13th Annual Care to Share/The Sharing Bucket's Fall Festival
DESCRIPTION:13th Annual Care to Share/The Sharing Bucket's Fall Festival - Saturday\, October 5th from 10am-4pm\n\n\n\n2480 Limestone Rd.\, Fort Scott\, KS (54 east to 240th south to Limestone Road east to us! HANDICAP PARKING AVAILABLE.\n\n\n\nFamily fun for everyone and food too! Tickets 50 cents each.\n\n\n\nIf you care to share in any way\, please contact Lavetta Simmons at 620-224-8070. Work day will be Sunday\, September 29th\, finalizing on Monday\, September 30th. On Saturday\, the day of the event\, we will begin set-up at 8am and will begin tear-down at 4pm. Thank you for any help!
X-ALT-DESC;FMTTYPE=text/html:<div style="color: rgb(34\, 34\, 34)\; font-family: arial\, sans-serif\; font-size: 12.8px\;">13th Annual Care to Share/The Sharing Bucket&#39\;s Fall Festival - Saturday\, October 5th from 10am-4pm<br />\n<br />\n2480 Limestone Rd.\, Fort Scott\, KS (54 east to 240th south to Limestone Road east to us! HANDICAP PARKING AVAILABLE.<br />\n<br />\nFamily fun for everyone and food too! Tickets 50 cents each.<br />\n<br />\nIf you care to share in any way\, please contact&nbsp\;Lavetta Simmons at 620-224-8070. Work day will be Sunday\, September 29th\, finalizing on Monday\, September 30th. On Saturday\, the day of the event\, we will begin set-up at 8am and will begin tear-down at 4pm. Thank you for any help!<br />\n&nbsp\;</div>\n
LOCATION:
UID:e.2874.13576
SEQUENCE:3
DTSTAMP:20260420T125514Z
URL:https://fortscott.com/events/details/13th-annual-care-to-share-the-sharing-bucket-s-fall-festival-13576
END:VEVENT

END:VCALENDAR
