BEGIN:VCALENDAR
VERSION:2.0
PRODID:-//ChamberMaster//Event Calendar 2.0//EN
METHOD:PUBLISH
X-PUBLISHED-TTL:P3D
REFRESH-INTERVAL:P3D
CALSCALE:GREGORIAN
BEGIN:VEVENT
DTSTART:20191031T210000Z
DTEND:20191101T020000Z
X-MICROSOFT-CDO-ALLDAYEVENT:FALSE
SUMMARY:2nd Annual Halloween Party at The Butcher Block
DESCRIPTION:Come join us for our 2nd Annual Halloween Party! We will have our smoked turkey legs again this year as well as hot dogs for the kiddos! Bring the kiddos and come out for a great time!
X-ALT-DESC;FMTTYPE=text/html:<span style="color: rgb(29\, 33\, 41)\; font-family: Helvetica\, Arial\, sans-serif\; font-size: 14px\; white-space: pre-wrap\;">Come join us for our 2nd Annual Halloween Party! We will have our smoked turkey legs again this year as well as hot dogs for the kiddos! Bring the kiddos and come out for a great time!</span>
LOCATION:1735 S. National Ave.
UID:e.2874.13538
SEQUENCE:3
DTSTAMP:20260420T130934Z
URL:https://fortscott.com/events/details/2nd-annual-halloween-party-at-the-butcher-block-13538
END:VEVENT

END:VCALENDAR
