BEGIN:VCALENDAR
VERSION:2.0
PRODID:-//ChamberMaster//Event Calendar 2.0//EN
METHOD:PUBLISH
X-PUBLISHED-TTL:P3D
REFRESH-INTERVAL:P3D
CALSCALE:GREGORIAN
BEGIN:VEVENT
DTSTART:20191015T140000Z
DTEND:20191015T210000Z
X-MICROSOFT-CDO-ALLDAYEVENT:FALSE
SUMMARY:3A Girls Regional Golf Tournament at Woodland Hills
DESCRIPTION:3A Girls Regional Golf Tournament\nTournament will be on top 9 holes\, bottom 9 available for public play.
X-ALT-DESC;FMTTYPE=text/html:<h2 style="font-family: Roboto\, RobotoDraft\, Helvetica\, Arial\, sans-serif\; line-height: 1.1\; margin: 0px 0px 15px\;"><a data-saferedirecturl="https://www.google.com/url?q=http://www.fscity.org/Calendar.aspx?EID%3D345&amp\;source=gmail&amp\;ust=1570806172690000&amp\;usg=AFQjCNEDhc77M2Kpc9xQBhDs1Mm1CB1GdQ" fg_scanned="1" href="http://www.fscity.org/Calendar.aspx?EID=345" style="color: rgb(0\, 99\, 179)\; text-decoration-line: none\;" target="_blank">3A Girls Regional Golf Tournament</a></h2>\nTournament will be on top 9 holes\, bottom 9 available for public play.
LOCATION:
UID:e.2874.13628
SEQUENCE:3
DTSTAMP:20260420T131231Z
URL:https://fortscott.com/events/details/3a-girls-regional-golf-tournament-at-woodland-hills-13628
END:VEVENT

END:VCALENDAR
