BEGIN:VCALENDAR
VERSION:2.0
PRODID:-//ChamberMaster//Event Calendar 2.0//EN
METHOD:PUBLISH
X-PUBLISHED-TTL:P3D
REFRESH-INTERVAL:P3D
CALSCALE:GREGORIAN
BEGIN:VEVENT
DTSTART;VALUE=DATE:20220516
DTEND;VALUE=DATE:20220520
TRANSP:TRANSPARENT
X-MICROSOFT-CDO-ALLDAYEVENT:TRUE
SUMMARY:4A Baseball Regionals in Fort Scott\, May 16-19
DESCRIPTION:4A Baseball Regionals in Fort Scott\, May 16-19
X-ALT-DESC;FMTTYPE=text/html:4A Baseball Regionals in Fort Scott\, May 16-19
LOCATION:
UID:e.2874.25061
SEQUENCE:3
DTSTAMP:20260425T161153Z
URL:https://fortscott.com/events/details/4a-baseball-regionals-in-fort-scott-may-16-19-25061
END:VEVENT

END:VCALENDAR
