BEGIN:VCALENDAR
VERSION:2.0
PRODID:-//ChamberMaster//Event Calendar 2.0//EN
METHOD:PUBLISH
X-PUBLISHED-TTL:P3D
REFRESH-INTERVAL:P3D
CALSCALE:GREGORIAN
BEGIN:VEVENT
DTSTART:20191014T140000Z
DTEND:20191014T210000Z
X-MICROSOFT-CDO-ALLDAYEVENT:FALSE
SUMMARY:4A Regional Golf Tournament at Woodland Hills
DESCRIPTION:
X-ALT-DESC;FMTTYPE=text/html:
LOCATION:
UID:e.2874.13629
SEQUENCE:3
DTSTAMP:20260420T114000Z
URL:https://fortscott.com/events/details/4a-regional-golf-tournament-at-woodland-hills-13629
END:VEVENT

END:VCALENDAR
