BEGIN:VCALENDAR
VERSION:2.0
PRODID:-//ChamberMaster//Event Calendar 2.0//EN
METHOD:PUBLISH
X-PUBLISHED-TTL:P3D
REFRESH-INTERVAL:P3D
CALSCALE:GREGORIAN
BEGIN:VEVENT
DTSTART;VALUE=DATE:20220526
DTEND;VALUE=DATE:20220528
TRANSP:TRANSPARENT
X-MICROSOFT-CDO-ALLDAYEVENT:TRUE
SUMMARY:6A State Baseball Tournament in Fort Scott\, May 26-27
DESCRIPTION:6A State Baseball Tournament in Fort Scott\, May 26-27
X-ALT-DESC;FMTTYPE=text/html:6A State Baseball Tournament in Fort Scott\, May 26-27
LOCATION:
UID:e.2874.25062
SEQUENCE:3
DTSTAMP:20260425T161153Z
URL:https://fortscott.com/events/details/6a-state-baseball-tournament-in-fort-scott-may-26-27-25062
END:VEVENT

END:VCALENDAR
