BEGIN:VCALENDAR
VERSION:2.0
PRODID:-//ChamberMaster//Event Calendar 2.0//EN
METHOD:PUBLISH
X-PUBLISHED-TTL:P3D
REFRESH-INTERVAL:P3D
CALSCALE:GREGORIAN
BEGIN:VEVENT
DTSTART:20191021T130000Z
DTEND:20191021T170000Z
X-MICROSOFT-CDO-ALLDAYEVENT:FALSE
SUMMARY:ACT Prep Course at FSHS
DESCRIPTION:ACT Prep Class for FSHS students\n\nwill be on October 21st from 8:00-noon.  This is an ACT test taking strategies class.  The cost is $45 and you must register to attend.  To register or if you have any questions\, please see Mr. Messer in the counseling office.
X-ALT-DESC;FMTTYPE=text/html:<span style="color: rgb(34\, 34\, 34)\; font-family: Arial\, Helvetica\, sans-serif\; font-size: small\;">ACT Prep Class for FSHS students</span><br style="color: rgb(34\, 34\, 34)\; font-family: Arial\, Helvetica\, sans-serif\; font-size: small\;" />\n<span style="color: rgb(34\, 34\, 34)\; font-family: Arial\, Helvetica\, sans-serif\; font-size: small\;">will be on October 21st from 8:00-noon.&nbsp\; This is an ACT test taking strategies class.&nbsp\; The cost is $45 and you must register to attend.&nbsp\; To register or if you have any questions\, please see Mr. Messer in the counseling office.&nbsp\;</span>
LOCATION:
UID:e.2874.13580
SEQUENCE:3
DTSTAMP:20260420T111626Z
URL:https://fortscott.com/events/details/act-prep-course-at-fshs-13580
END:VEVENT

END:VCALENDAR
