BEGIN:VCALENDAR
VERSION:2.0
PRODID:-//ChamberMaster//Event Calendar 2.0//EN
METHOD:PUBLISH
X-PUBLISHED-TTL:P3D
REFRESH-INTERVAL:P3D
CALSCALE:GREGORIAN
BEGIN:VEVENT
DTSTART;VALUE=DATE:20220316
DTEND;VALUE=DATE:20220906
TRANSP:TRANSPARENT
X-MICROSOFT-CDO-ALLDAYEVENT:TRUE
SUMMARY:American Legion Auxiliary Raffle
DESCRIPTION:Grab some raffle tickets for the chance to win a 12 Gauge G-Force arms with two 5 round mags.\n\n\n\nTickets can be purchased from any American Legion Auxiliary Member or at the meat dept. of G&W Foods\, located in Iola\, KS\n\n1 Ticket for $5 or 5 Tickets for $20\n\n\n\nMust be 18 and pass a background check to receive gun!\n\n\n\nDrawing is on September 5th and you do not have to be present to win.\n\n\n\nContact Slyvia Norris\, President Unit 25\, with any questions! \n\n701-404-3143
X-ALT-DESC;FMTTYPE=text/html:Grab some raffle tickets for the chance to win a 12 Gauge G-Force arms with two 5 round mags.<br />\n<br />\nTickets can be purchased from any American Legion Auxiliary Member or at the meat dept. of G&amp\;W Foods\, located in Iola\, KS<br />\n1 Ticket for $5 or 5 Tickets for $20<br />\n<br />\nMust be 18 and pass a background check to receive gun!<br />\n<br />\nDrawing is on September 5th and you do not have to be present to win.<br />\n<br />\nContact Slyvia Norris\, President Unit 25\, with any questions!&nbsp\;<br />\n701-404-3143<br />\n&nbsp\;
LOCATION:Tickets can be purchased from any American Legion Auxiliary Member or at the meat dept. of G&W Foods\, located in Iola\, KS
UID:e.2874.24556
SEQUENCE:3
DTSTAMP:20260425T160935Z
URL:https://fortscott.com/events/details/american-legion-auxiliary-raffle-24556
END:VEVENT

END:VCALENDAR
