BEGIN:VCALENDAR
VERSION:2.0
PRODID:-//ChamberMaster//Event Calendar 2.0//EN
METHOD:PUBLISH
X-PUBLISHED-TTL:P3D
REFRESH-INTERVAL:P3D
CALSCALE:GREGORIAN
BEGIN:VEVENT
DTSTART:20180903T160000Z
DTEND:20180903T190000Z
X-MICROSOFT-CDO-ALLDAYEVENT:FALSE
SUMMARY:American Legion Post 25 hot dog give away at the Fort Scott Wal-Mart from 11 am – 2 pm\, or the dogs run out.
DESCRIPTION:American Legion Post 25 hot dog give away is Labor Day\, Monday\, September 3 at the Fort Scott Wal-Mart from 11 am   2 pm\, or the dogs run out.
X-ALT-DESC;FMTTYPE=text/html:<span style="color: rgb(0\, 0\, 0)\; font-family: Georgia\, serif\; font-size: 16px\;">American Legion Post 25 hot dog give away is Labor Day\, Monday\, September 3 at the Fort Scott Wal-Mart from&nbsp\;</span><span class="aBn" data-term="goog_1928003567" style="border-bottom: 1px dashed rgb(204\, 204\, 204)\; position: relative\; top: -2px\; z-index: 0\; color: rgb(0\, 0\, 0)\; font-family: Georgia\, serif\; font-size: 16px\;" tabindex="0"><span class="aQJ" style="position: relative\; top: 2px\; z-index: -1\;">11 am &ndash\; 2 pm</span></span><span style="color: rgb(0\, 0\, 0)\; font-family: Georgia\, serif\; font-size: 16px\;">\, or the dogs run out.&nbsp\;</span>
LOCATION:
UID:e.2874.10830
SEQUENCE:3
DTSTAMP:20260421T101505Z
URL:https://fortscott.com/events/details/american-legion-post-25-hot-dog-give-away-at-the-fort-scott-wal-mart-from-11-am-2-pm-or-the-dogs-run-out-10830
END:VEVENT

END:VCALENDAR
