BEGIN:VCALENDAR
VERSION:2.0
PRODID:-//ChamberMaster//Event Calendar 2.0//EN
METHOD:PUBLISH
X-PUBLISHED-TTL:P3D
REFRESH-INTERVAL:P3D
CALSCALE:GREGORIAN
BEGIN:VEVENT
DTSTART;VALUE=DATE:20231116
DTEND;VALUE=DATE:20231206
TRANSP:TRANSPARENT
X-MICROSOFT-CDO-ALLDAYEVENT:TRUE
SUMMARY:Annual Christmas Light Contest
DESCRIPTION:The Fort Scott Area Chamber of Commerce encourages businesses\, residents and neighborhoods to "Deck the Fort" and make the community merry and bright for the holidays.  Niece Products is sponsoring a Christmas Light Contest with cash prizes for the winners including: \n\n\n\nResidential: 1st $100\, 2nd $75\, 3rd $50\n\nTop Business: $100\n\nTop Neighborhood: $100\n\n \n\nOther contest details:\n\n	Lights should be in place by December 5th and judging will take place between the 11th and 13th.\n	Properties within a 1 mile radius of city limits will be considered for contest\n	Those wanting to ensure their property is judged should call or email the Chamber with their address\, name and phone number.  Otherwise\, no registration necessary and the judges will do their best to seek out lights in the area. \n	Lighting and decorations must be visible from street view\n\n	 \n\n\n\nThe Chamber encourages everyone to get in the spirit with lights this season.  For more information contact the Chamber at 620-223-3566 or by email at information@fortscott.com.
X-ALT-DESC;FMTTYPE=text/html:<span style="background:white\;"><span style="color:#1D2129\;"><span style="font-family:helvetica\,sans-serif\;"><span style="font-size:10.5pt\;">The Fort Scott Area Chamber of Commerce encourages businesses\, residents and neighborhoods to &ldquo\;Deck the Fort&rdquo\; and make the community merry and bright for the holidays.&nbsp\; Niece Products is sponsoring a Christmas Light Contest with cash prizes for the winners including: </span></span></span></span><br />\n<br />\n<span style="color:#1D2129\;"><span style="font-family:helvetica\,sans-serif\;"><span style="font-size:10.5pt\;"><span style="background:white\;">Residential: 1st $100\, 2nd $75\, 3rd $50</span><br />\n<span style="background:white\;">Top Business: $100</span><br />\n<span style="background:white\;">Top Neighborhood: $100</span></span></span></span><br />\n&nbsp\;<br />\n<span style="background:white\;"><span style="color:#1D2129\;"><span style="font-family:helvetica\,sans-serif\;"><span style="font-size:10.5pt\;">Other contest details:</span></span></span></span>\n<ul style="list-style-type:circle\;">\n	<li style="margin-bottom:0in\;"><span style="background:white\;"><span style="color:#1D2129\;"><span style="font-family:helvetica\,sans-serif\;"><span style="font-size:10.5pt\;">Lights should be in place by December 5<sup>th</sup> and judging will take place between the 11<sup>th</sup> and 13<sup>th</sup>.</span></span></span></span></li>\n	<li style="margin-bottom:0in\;"><span style="background:white\;"><span style="color:#1D2129\;"><span style="font-family:helvetica\,sans-serif\;"><span style="font-size:10.5pt\;">Properties within a 1 mile radius of city limits will be considered for contest</span></span></span></span></li>\n	<li style="margin-bottom:0in\;"><span style="background:white\;"><span style="color:#1D2129\;"><span style="font-family:helvetica\,sans-serif\;"><span style="font-size:10.5pt\;">Those wanting to ensure their property is judged should call or email the Chamber with their address\, name and phone number.&nbsp\; Otherwise\, no registration necessary and the judges will do their best to seek out lights in the area. </span></span></span></span></li>\n	<li style="margin-bottom:0in\;"><span style="background:white\;"><span style="color:#1D2129\;"><span style="font-family:helvetica\,sans-serif\;"><span style="font-size:10.5pt\;">Lighting and decorations must be visible from street view</span></span></span></span><br />\n	&nbsp\;</li>\n</ul>\n<br />\n<span style="color:#1D2129\;"><span style="font-family:helvetica\,sans-serif\;"><span style="font-size:10.5pt\;"><span style="background:white\;">The Chamber encourages everyone to get in the spirit with lights this season.&nbsp\; For more information contact the Chamber at 620-223-3566 or by email at information@fortscott.com.</span></span></span></span>
LOCATION:
UID:e.2874.29827
SEQUENCE:3
DTSTAMP:20260425T123603Z
URL:https://fortscott.com/events/details/annual-christmas-light-contest-29827
END:VEVENT

END:VCALENDAR
