BEGIN:VCALENDAR
VERSION:2.0
PRODID:-//ChamberMaster//Event Calendar 2.0//EN
METHOD:PUBLISH
X-PUBLISHED-TTL:P3D
REFRESH-INTERVAL:P3D
CALSCALE:GREGORIAN
BEGIN:VEVENT
DTSTART:20191003T163000Z
DTEND:20191003T183000Z
X-MICROSOFT-CDO-ALLDAYEVENT:FALSE
SUMMARY:Annual Customer Appreciation BBQ Lunch at Security 1st Title
DESCRIPTION:Security 1st Title will host their annual Customer Appreciation BBQ Lunch. Please RSVP by September 30th at fort_scott@security1st.com or (620)223-3330.
X-ALT-DESC;FMTTYPE=text/html:Security 1st Title will host their annual Customer Appreciation BBQ Lunch. Please RSVP by September 30th at fort_scott@security1st.com or (620)223-3330.&nbsp\;
LOCATION:Liberty Theater\, 117 S. Main St.\, Fort Scott\, KS 66701
UID:e.2874.13559
SEQUENCE:3
DTSTAMP:20260420T111921Z
URL:https://fortscott.com/events/details/annual-customer-appreciation-bbq-lunch-at-security-1st-title-13559
END:VEVENT

END:VCALENDAR
