BEGIN:VCALENDAR
VERSION:2.0
PRODID:-//ChamberMaster//Event Calendar 2.0//EN
METHOD:PUBLISH
X-PUBLISHED-TTL:P3D
REFRESH-INTERVAL:P3D
CALSCALE:GREGORIAN
BEGIN:VEVENT
DTSTART:20190413T190000Z
DTEND:20190413T200000Z
X-MICROSOFT-CDO-ALLDAYEVENT:FALSE
SUMMARY:Author Talk and Book Signing with Pastor George Proctor
DESCRIPTION:Meet and greet author Pastor George Proctor. There will be an author talk\, Q & A and booksigning. His book will be available for purchase in the bookstore. Light refreshments will be served.
X-ALT-DESC;FMTTYPE=text/html:Meet and greet author&nbsp\;Pastor George Proctor.&nbsp\;There will be an author talk\, Q &amp\; A and booksigning. His book will be available for purchase in the bookstore. Light refreshments will be served.
LOCATION:Hedgehog.INK\, 16 S. Main St.\, Fort Scott
UID:e.2874.11966
SEQUENCE:3
DTSTAMP:20260424T100021Z
URL:https://fortscott.com/events/details/author-talk-and-book-signing-with-pastor-george-proctor-11966
END:VEVENT

END:VCALENDAR
