BEGIN:VCALENDAR
VERSION:2.0
PRODID:-//ChamberMaster//Event Calendar 2.0//EN
METHOD:PUBLISH
X-PUBLISHED-TTL:P3D
REFRESH-INTERVAL:P3D
CALSCALE:GREGORIAN
BEGIN:VEVENT
DTSTART:20220429T000000Z
DTEND:20220429T020000Z
X-MICROSOFT-CDO-ALLDAYEVENT:FALSE
SUMMARY:BINGO at Memorial Hall hosted by the American Legion
DESCRIPTION:BINGO at Memorial Hall hosted by American Legion\n\n\n\n7pm
X-ALT-DESC;FMTTYPE=text/html:BINGO at Memorial Hall hosted by American Legion<br />\n<br />\n7pm
LOCATION:Memorial Hall 1 E. 3rd St.
UID:e.2874.25022
SEQUENCE:3
DTSTAMP:20260425T173101Z
URL:https://fortscott.com/events/details/bingo-at-memorial-hall-hosted-by-the-american-legion-25022
END:VEVENT

END:VCALENDAR
