BEGIN:VCALENDAR
VERSION:2.0
PRODID:-//ChamberMaster//Event Calendar 2.0//EN
METHOD:PUBLISH
X-PUBLISHED-TTL:P3D
REFRESH-INTERVAL:P3D
CALSCALE:GREGORIAN
BEGIN:VEVENT
DTSTART:20191006T190000Z
DTEND:20191006T210000Z
X-MICROSOFT-CDO-ALLDAYEVENT:FALSE
SUMMARY:Blessing of the Pets hosted by Fort Scott Paws & Claws
DESCRIPTION:Join us for Blessing of the Pets with Fr. Bob McElwee and Rev. Jared Witt\, Sunday\, October 6th\, 2pm at Riverfront Park.  Bring your pet\, all are welcome!
X-ALT-DESC;FMTTYPE=text/html:Join us for Blessing of the Pets with Fr. Bob McElwee and Rev. Jared Witt\, Sunday\, October 6th\, 2pm at Riverfront Park.&nbsp\; Bring your pet\, all are welcome!
LOCATION:
UID:e.2874.13605
SEQUENCE:3
DTSTAMP:20260420T130657Z
URL:https://fortscott.com/events/details/blessing-of-the-pets-hosted-by-fort-scott-paws-claws-13605
END:VEVENT

END:VCALENDAR
