BEGIN:VCALENDAR
VERSION:2.0
PRODID:-//ChamberMaster//Event Calendar 2.0//EN
METHOD:PUBLISH
X-PUBLISHED-TTL:P3D
REFRESH-INTERVAL:P3D
CALSCALE:GREGORIAN
BEGIN:VEVENT
DTSTART:20220709T133000Z
DTEND:20220709T153000Z
X-MICROSOFT-CDO-ALLDAYEVENT:FALSE
SUMMARY:Bourbon County Carpool Tour - The Marmiton Massacre - Payback
DESCRIPTION:Guided Carpool Tour - historical tour in your own personal vehicle\n\n\n\n"The Marmiton Massacre - Payback"\n\n\n\nClick here for a printable flyer.\n\nSaturday\, July 9\, 2022\n\nDeparts at 8:30am w/tour ending approx. 10:30am\n\nDeparting from Old Fort Genealogical Library (Memorial Hall\, 221 S. National Ave.)\n\n$5 per person. Limited to first 40 people to register - pre-registration required.\n\nRegister online at fortscott.com/events.\n\nQuestions may be directed to the Old Fort Genealogical Society at 620-223-3300 or OFGSKS@GMAIL.COM\n\n\n\nMore about the tour:\n\nGuerilla's from Cow Creek\, Crawford County\, Kansas rode their horses to Marmiton\, Bourbon County\, Kansas for the sole purpose of payback. The guerrillas lost a battle early in the Civil War and wanted payback which was to get even with the soldiers who were returning home to their families. The guerillas snuck into town about midnight October 22\, 1864 to kill the military men who embarrassed them. The result was the burning of a church\, 2 stores and 2 homes but worst of all\, the killing of 6 men of the community. The story of the raid and of Marmiton will be told by the current owner of the old site.\n\n\n\nFuture tours:\n\nAugust 13th:  National Cemetery\n\nSeptember 10th:  Barnesville\, Ft. Lincoln\, Freedom Colony\, and Mapleton\n\nOctober 8th:  Marmiton Massacre and Marmaton Cemetery\n\nLast of October:  There will be Haunted Tour on the Trolley\n\n\n\nSponsored by the Old Fort Genealogical Society\, Historical Preservation Association of Bourbon County\, and the Fort Scott Area Chamber of Commerce
X-ALT-DESC;FMTTYPE=text/html:<p class="_04xlpA direction-ltr align-start para-style-pretitle" color:="" font-size:="" style="line-height: 1.08\; font-family: " yacgefb36u4=""><span style="font-size:24px\;"><span class="JsGRdQ" style="font-weight: 700\;"><span style="font-size:16px\;">Guided Carpool Tour - historical tour in your own personal vehicle</span><br />\n<br />\n&quot\;The Marmiton Massacre - Payback&quot\;</span></span><br />\n<br />\n<span style="font-size:16px\;"><span style="font-family:comic sans ms\;"><span style="color:#0000CD\;">Click </span><a href="https://chambermaster.blob.core.windows.net/userfiles/UserFiles/chambers/2874/File/Bourbon_County_Tours/BOURBONCOUNTYHISTORYTOURS-FLYER.pdf"><span style="color:#FF0000\;">here</span></a><span style="color:#0000CD\;"> for a printable flyer.</span></span></span></p>\n\n<p class="_04xlpA direction-ltr align-start para-style-subtitle" color:="" font-size:="" style="line-height: 1.41\; letter-spacing: 0.05em\; font-family: " yadlji9qxta=""><span style="font-size:16px\;"><span class="JsGRdQ">Saturday\, July 9\, 2022</span></span></p>\n\n<p class="_04xlpA direction-ltr align-start para-style-subtitle" color:="" font-size:="" style="line-height: 1.41\; letter-spacing: 0.05em\; font-family: " yadlji9qxta=""><span style="font-size:16px\;"><span class="JsGRdQ">Departs at 8:30am w/tour ending approx. 10:30am</span></span></p>\n\n<p class="_04xlpA direction-ltr align-start para-style-subtitle" color:="" font-size:="" style="line-height: 1.41\; letter-spacing: 0.05em\; font-family: " yadlji9qxta=""><span style="font-size:16px\;"><span class="JsGRdQ">Departing from Old Fort Genealogical Library (Memorial Hall\, 221 S. National Ave.)</span></span></p>\n\n<p class="_04xlpA direction-ltr align-start para-style-subtitle" color:="" font-size:="" style="line-height: 1.41\; letter-spacing: 0.05em\; font-family: " yadlji9qxta=""><span style="font-size:16px\;"><span class="JsGRdQ">$5 per person.</span><span class="JsGRdQ white-space-prewrap"> </span><span class="JsGRdQ">Limited to first 40 people to register - pre-registration required.</span></span></p>\n\n<p class="_04xlpA direction-ltr align-start para-style-subtitle" color:="" font-size:="" style="line-height: 1.41\; letter-spacing: 0.05em\; font-family: " yadlji9qxta=""><span style="font-size:16px\;"><span class="JsGRdQ" style="font-weight: 700\; color: rgb(0\, 0\, 0)\;">Register online at fortscott.com/events.</span></span></p>\n\n<p class="_04xlpA direction-ltr align-start para-style-subtitle" color:="" font-size:="" style="line-height: 1.41\; letter-spacing: 0.05em\; font-family: " yadlji9qxta=""><span style="font-size:16px\;"><span class="JsGRdQ" style="font-weight: 700\; color: rgb(0\, 0\, 0)\;">Questions may be directed to the Old Fort Genealogical Society at 620-223-3300 or OFGSKS@GMAIL.COM<br />\n<br />\nMore about the tour:</span></span><br />\n<span style="color:#222222\;"><span style="font-family:arial\,sans-serif\;"><span style="font-size:12.0pt\;">Guerilla&#39\;s from Cow Creek\, Crawford County\, Kansas rode their horses to Marmiton\, Bourbon County\, Kansas for the sole purpose of payback. The guerrillas lost a battle early in the&nbsp\;Civil War and wanted payback which was to get even with the soldiers who were returning home to their&nbsp\;families. The&nbsp\;guerillas snuck into town about midnight October 22\, 1864 to kill the military men who embarrassed them. The result was the burning of a church\, 2 stores and 2 homes but worst of all\, the killing of 6 men of the community. The story of the raid and of Marmiton will be told by the current owner of the old site.</span></span></span><br />\n<br />\n<span class="JsGRdQ" style="color: rgb(0\, 0\, 0)\;"><span style="font-size:16px\;"><strong>Future tours:</strong><br />\nAugust 13th:&nbsp\; National Cemetery<br />\nSeptember 10th:&nbsp\; Barnesville\, Ft. Lincoln\, Freedom Colony\, and Mapleton<br />\nOctober 8th:&nbsp\; Marmiton Massacre and Marmaton Cemetery<br />\nLast of October:&nbsp\; There will be Haunted Tour on the Trolley<br />\n<br />\nSponsored by the Old Fort Genealogical Society\, Historical Preservation Association of Bourbon County\, and the Fort Scott Area Chamber of Commerce</span></span></p>\n\n<p class="_04xlpA direction-ltr align-start para-style-pretitle" color:="" font-size:="" style="line-height: 1.08\; font-family: " yacgefb36u4="">&nbsp\;</p>\n
LOCATION:
UID:e.2874.25109
SEQUENCE:3
DTSTAMP:20260419T122441Z
URL:https://fortscott.com/events/details/bourbon-county-carpool-tour-the-marmiton-massacre-payback-25109
END:VEVENT

END:VCALENDAR
