BEGIN:VCALENDAR
VERSION:2.0
PRODID:-//ChamberMaster//Event Calendar 2.0//EN
METHOD:PUBLISH
X-PUBLISHED-TTL:P3D
REFRESH-INTERVAL:P3D
CALSCALE:GREGORIAN
BEGIN:VEVENT
DTSTART:20211211T010000Z
DTEND:20211211T030000Z
X-MICROSOFT-CDO-ALLDAYEVENT:FALSE
SUMMARY:Bourbon County CASA Christmas Fundraiser
DESCRIPTION:The Bourbon County CASA Christmas Fundraiser
X-ALT-DESC;FMTTYPE=text/html:<span style="color: rgb(34\, 34\, 34)\; font-family: Arial\, Helvetica\, sans-serif\; font-size: small\;">&nbsp\;The Bourbon County CASA Christmas Fundraiser&nbsp\;&nbsp\;</span>
LOCATION:Home of Mitch and Colleen Quick
UID:e.2874.21444
SEQUENCE:3
DTSTAMP:20260426T000320Z
URL:https://fortscott.com/events/details/bourbon-county-casa-christmas-fundraiser-21444
END:VEVENT

END:VCALENDAR
