BEGIN:VCALENDAR
VERSION:2.0
PRODID:-//ChamberMaster//Event Calendar 2.0//EN
METHOD:PUBLISH
X-PUBLISHED-TTL:P3D
REFRESH-INTERVAL:P3D
CALSCALE:GREGORIAN
BEGIN:VEVENT
DTSTART:20220505T233000Z
DTEND:20220506T003000Z
X-MICROSOFT-CDO-ALLDAYEVENT:FALSE
SUMMARY:Bourbon County Republican Central Committee Meeting
DESCRIPTION:BOURBON COUNTY REPUBLICAN CENTRAL COMMITTEE MEETING\n\n \n\nTHURSDAY\, MAY 5\, 2022\n\n \n\n6:30 PM   EMPRESS EVENT CENTER\, 7 N MAIN\, FT SCOTT\, KS
X-ALT-DESC;FMTTYPE=text/html:<div style="color: rgb(34\, 34\, 34)\; font-family: Arial\, Helvetica\, sans-serif\; font-size: small\; background-color: rgb(255\, 255\, 255)\;">BOURBON COUNTY REPUBLICAN CENTRAL COMMITTEE MEETING</div>\n\n<div style="color: rgb(34\, 34\, 34)\; font-family: Arial\, Helvetica\, sans-serif\; font-size: small\; background-color: rgb(255\, 255\, 255)\;">&nbsp\;</div>\n\n<div style="color: rgb(34\, 34\, 34)\; font-family: Arial\, Helvetica\, sans-serif\; font-size: small\; background-color: rgb(255\, 255\, 255)\;">THURSDAY\, MAY 5\, 2022</div>\n\n<div style="color: rgb(34\, 34\, 34)\; font-family: Arial\, Helvetica\, sans-serif\; font-size: small\; background-color: rgb(255\, 255\, 255)\;">&nbsp\;</div>\n\n<div style="color: rgb(34\, 34\, 34)\; font-family: Arial\, Helvetica\, sans-serif\; font-size: small\; background-color: rgb(255\, 255\, 255)\;">6:30 PM&nbsp\; &nbsp\;EMPRESS EVENT CENTER\, 7 N MAIN\, FT SCOTT\, KS</div>\n
LOCATION:EMPRESS EVENT CENTER\, 7 N MAIN\, FT SCOTT\, KS
UID:e.2874.25059
SEQUENCE:3
DTSTAMP:20260425T161052Z
URL:https://fortscott.com/events/details/bourbon-county-republican-central-committee-meeting-25059
END:VEVENT

END:VCALENDAR
