BEGIN:VCALENDAR
VERSION:2.0
PRODID:-//ChamberMaster//Event Calendar 2.0//EN
METHOD:PUBLISH
X-PUBLISHED-TTL:P3D
REFRESH-INTERVAL:P3D
CALSCALE:GREGORIAN
BEGIN:VEVENT
DTSTART:20211029T210000Z
DTEND:20211030T000000Z
X-MICROSOFT-CDO-ALLDAYEVENT:FALSE
SUMMARY:Briggs Auto Truck or Treat Halloween Bash!
DESCRIPTION:
X-ALT-DESC;FMTTYPE=text/html:
LOCATION:
UID:e.2874.22080
SEQUENCE:3
DTSTAMP:20260423T010734Z
URL:https://fortscott.com/events/details/briggs-auto-truck-or-treat-halloween-bash-22080
END:VEVENT

END:VCALENDAR
