BEGIN:VCALENDAR
VERSION:2.0
PRODID:-//ChamberMaster//Event Calendar 2.0//EN
METHOD:PUBLISH
X-PUBLISHED-TTL:P3D
REFRESH-INTERVAL:P3D
CALSCALE:GREGORIAN
BEGIN:VEVENT
DTSTART:20180930T000000Z
DTEND:20180930T030000Z
X-MICROSOFT-CDO-ALLDAYEVENT:FALSE
SUMMARY:Canceled: Come join the Legionnaires of American Legion Post 25 for an anniversary dinner!
DESCRIPTION:Come join the Legionnaires of Post 25 for an anniversary dinner at 7 pm\, Saturday\, September 29. The dinner is open to all Veterans\, their families and community supporters. \n\nThe Fort Scott Elks Lodge will be hosting the meal of filet mignon with mashed potatoes\, green beans and a roll. The cost per person is $20.00. \n\nA silent auction will be held in conjunction with the meal as a fundraiser for Legion programs. \n\nPreordering your meal is required. Call Post Commander Carl Jowers at 904-553-1848 or email him at carljowers@yahoo.com to preorder your meal. The deadline for preordering is September 22\, 2019.
X-ALT-DESC;FMTTYPE=text/html:<p style="color: rgb(34\, 34\, 34)\; font-family: garamond\, serif\; font-size: large\; margin: 0px 0px 10.66px\;"><span style="margin: 0px\; line-height: 25.68px\; font-size: 18pt\;"><font color="#000000" face="Calibri">Come join the Legionnaires of Post 25 for an anniversary dinner at&nbsp\;<span class="aBn" data-term="goog_1025467196" style="border-bottom: 1px dashed rgb(204\, 204\, 204)\; position: relative\; top: -2px\; z-index: 0\;" tabindex="0"><span class="aQJ" style="position: relative\; top: 2px\; z-index: -1\;">7 pm</span></span>\, Saturday\, September 29. The dinner is open to all Veterans\, their families and community supporters.</font></span><span style="margin: 0px\; line-height: 25.68px\; font-size: 18pt\;"><font color="#000000" face="Calibri">&nbsp\;</font></span></p>\n\n<p style="color: rgb(34\, 34\, 34)\; font-family: garamond\, serif\; font-size: large\; margin: 0px 0px 10.66px\;"><span style="margin: 0px\; line-height: 25.68px\; font-size: 18pt\;"><font color="#000000" face="Calibri">The Fort Scott Elks Lodge will be hosting the meal of filet mignon with mashed potatoes\, green beans and a roll. The cost per person is $20.00.</font></span><span style="margin: 0px\; line-height: 25.68px\; font-size: 18pt\;"><font color="#000000" face="Calibri">&nbsp\;</font></span></p>\n\n<p style="color: rgb(34\, 34\, 34)\; font-family: garamond\, serif\; font-size: large\; margin: 0px 0px 10.66px\;"><span style="margin: 0px\; line-height: 25.68px\; font-size: 18pt\;"><font color="#000000" face="Calibri">A silent auction will be held in conjunction with the meal as a fundraiser for Legion programs.</font></span><span style="margin: 0px\; line-height: 25.68px\; font-size: 18pt\;"><font color="#000000" face="Calibri">&nbsp\;</font></span></p>\n\n<p style="color: rgb(34\, 34\, 34)\; font-family: garamond\, serif\; font-size: large\; margin: 0px 0px 10.66px\;"><span style="margin: 0px\; line-height: 25.68px\; font-size: 18pt\;"><font face="Calibri"><font color="#000000">Preordering your meal is required. Call Post Commander Carl Jowers at 904-553-1848 or email him at&nbsp\;</font><span style="margin: 0px\;"><a style="color: rgb(34\, 34\, 34)\;"><u><font color="#0563c1">carljowers@yahoo.com</font></u></a></span></font><font color="#000000" face="Calibri">&nbsp\;to preorder your meal. The deadline for preordering is&nbsp\;<span class="aBn" data-term="goog_1025467198" style="border-bottom: 1px dashed rgb(204\, 204\, 204)\; position: relative\; top: -2px\; z-index: 0\;" tabindex="0"><span class="aQJ" style="position: relative\; top: 2px\; z-index: -1\;">September 22\, 2019</span></span>.</font></span></p>\n
LOCATION:
UID:e.2874.10836
SEQUENCE:3
DTSTAMP:20260419T115614Z
URL:https://fortscott.com/events/details/canceled-come-join-the-legionnaires-of-american-legion-post-25-for-an-anniversary-dinner-10836
END:VEVENT

END:VCALENDAR
