BEGIN:VCALENDAR
VERSION:2.0
PRODID:-//ChamberMaster//Event Calendar 2.0//EN
METHOD:PUBLISH
X-PUBLISHED-TTL:P3D
REFRESH-INTERVAL:P3D
CALSCALE:GREGORIAN
BEGIN:VEVENT
DTSTART:20211225T010000Z
DTEND:20211225T020000Z
X-MICROSOFT-CDO-ALLDAYEVENT:FALSE
SUMMARY:Candlelight Christmas Eve Service - First United Methodist Church
DESCRIPTION:You are invited to the Christmas Eve Candlelight Service at First United Methodist Church\, 301 S. National\, at 7 p.m. on Christmas Eve. Masks are highly recommended.
X-ALT-DESC;FMTTYPE=text/html:You are invited to the Christmas Eve Candlelight Service at First United Methodist Church\, 301 S. National\, at 7 p.m. on Christmas Eve. Masks are highly recommended.
LOCATION:301 S. National Fort Scott\, KS
UID:e.2874.22818
SEQUENCE:3
DTSTAMP:20260426T013604Z
URL:https://fortscott.com/events/details/candlelight-christmas-eve-service-first-united-methodist-church-22818
END:VEVENT

END:VCALENDAR
