BEGIN:VCALENDAR
VERSION:2.0
PRODID:-//ChamberMaster//Event Calendar 2.0//EN
METHOD:PUBLISH
X-PUBLISHED-TTL:P3D
REFRESH-INTERVAL:P3D
CALSCALE:GREGORIAN
BEGIN:VEVENT
DTSTART:20220409T210000Z
DTEND:20220410T000000Z
X-MICROSOFT-CDO-ALLDAYEVENT:FALSE
SUMMARY:Car Hop Dinner & Bake Sale - 8th Grade\, FS Christian Heights
DESCRIPTION:You are invited to the 8th grade fundraiser! Fort Scott Christian Heights will be doing a car hop dinner and bake sale at the school!\n\n\n\nThe dinner will be ordered and served "Sonic-style" from your vehicle.\n\nPark along the south side of the building. Spots are marked with strips of tape. An 8th grade student will take your order and serve you the meal!\n\n\n\nHamburger Meal\n\nPrice: $7 \n\n- Drink\n\n- Chips\n\n- Baked beans\n\n- Corn\n\n- Brownie\n\n\n\nHot Dog Meal \n\nPrice $6\n\n- Drink\n\n- Chips\n\n- Baked beans\n\n- Corn\n\n- Brownie\n\n\n\nBake Sale\n\nDon't forget to get some yummy baked goods! Located at the school entrance.
X-ALT-DESC;FMTTYPE=text/html:You are invited to the 8th grade fundraiser! Fort Scott Christian Heights will be doing a car hop dinner and bake sale at the school!<br />\n<br />\nThe dinner will be ordered and served &quot\;Sonic-style&quot\; from your vehicle.<br />\nPark along the south side of the building. Spots are marked with strips of tape. An 8th grade student will take your order and serve you the meal!<br />\n<br />\nHamburger Meal<br />\nPrice: $7&nbsp\;<br />\n- Drink<br />\n- Chips<br />\n- Baked beans<br />\n- Corn<br />\n- Brownie<br />\n<br />\nHot Dog Meal&nbsp\;<br />\nPrice $6<br />\n<span style="color: rgb(51\, 51\, 51)\; font-family: sans-serif\, Arial\, Verdana\, &quot\;Trebuchet MS&quot\;\; font-size: 13px\; background-color: rgb(255\, 255\, 255)\;">- Drink</span><br style="color: rgb(51\, 51\, 51)\; font-family: sans-serif\, Arial\, Verdana\, &quot\;Trebuchet MS&quot\;\; font-size: 13px\;" />\n<span style="color: rgb(51\, 51\, 51)\; font-family: sans-serif\, Arial\, Verdana\, &quot\;Trebuchet MS&quot\;\; font-size: 13px\; background-color: rgb(255\, 255\, 255)\;">- Chips</span><br style="color: rgb(51\, 51\, 51)\; font-family: sans-serif\, Arial\, Verdana\, &quot\;Trebuchet MS&quot\;\; font-size: 13px\;" />\n<span style="color: rgb(51\, 51\, 51)\; font-family: sans-serif\, Arial\, Verdana\, &quot\;Trebuchet MS&quot\;\; font-size: 13px\; background-color: rgb(255\, 255\, 255)\;">- Baked beans</span><br style="color: rgb(51\, 51\, 51)\; font-family: sans-serif\, Arial\, Verdana\, &quot\;Trebuchet MS&quot\;\; font-size: 13px\;" />\n<span style="color: rgb(51\, 51\, 51)\; font-family: sans-serif\, Arial\, Verdana\, &quot\;Trebuchet MS&quot\;\; font-size: 13px\; background-color: rgb(255\, 255\, 255)\;">- Corn</span><br style="color: rgb(51\, 51\, 51)\; font-family: sans-serif\, Arial\, Verdana\, &quot\;Trebuchet MS&quot\;\; font-size: 13px\;" />\n<span style="color: rgb(51\, 51\, 51)\; font-family: sans-serif\, Arial\, Verdana\, &quot\;Trebuchet MS&quot\;\; font-size: 13px\; background-color: rgb(255\, 255\, 255)\;">- Brownie<br />\n<br />\nBake Sale<br />\nDon&#39\;t forget to get some yummy baked goods! Located at the school entrance.&nbsp\;</span><br />\n&nbsp\;
LOCATION:1101 S Barbee St\, Fort Scott\, KS 66701
UID:e.2874.24555
SEQUENCE:3
DTSTAMP:20260425T173013Z
URL:https://fortscott.com/events/details/car-hop-dinner-bake-sale-8th-grade-fs-christian-heights-24555
END:VEVENT

END:VCALENDAR
