BEGIN:VCALENDAR
VERSION:2.0
PRODID:-//ChamberMaster//Event Calendar 2.0//EN
METHOD:PUBLISH
X-PUBLISHED-TTL:P3D
REFRESH-INTERVAL:P3D
CALSCALE:GREGORIAN
BEGIN:VEVENT
DTSTART:20180804T153000Z
DTEND:20180804T163000Z
X-MICROSOFT-CDO-ALLDAYEVENT:FALSE
SUMMARY:CARE TO SHARE CANCER SUPPORT GROUP’S QUARTERLY MEETING
DESCRIPTION:YOU ARE INVITED\n\nTO\n\nCARE TO SHARE CANCER SUPPORT \n\nGROUP'S\n\nQUARTERLY MEETING\n\nSATURDAY\n\nAUGUST 4TH\, 2018\n\n10:30 AM\n\nMERCY HOSPITAL\n\nMC AULEY CENTER\n\n403 WOODLAND HILLS BLVD\n\nFORT SCOTT\, KANSAS  66701\n\n \n\nThis meeting is for anyone that has been affected by cancer\,\n\nFighters\, Survivors\, Families\, Friends\, Care Givers.\n\n \n\nFor More Information\, You May Contact:\n\nLavetta Simmons-620-224-8070\n\nDona Bauer-620-224-7075\n\nTeresa Davenport-620-362-3042\n\n \n\nCaring and Sharing for our Community Cancer Survivors
X-ALT-DESC;FMTTYPE=text/html:<span style="font-size:18.0pt\;">YOU ARE INVITED</span><br />\n<span style="font-size:18.0pt\;">TO</span><br />\n<span style="font-size:18.0pt\;">CARE TO SHARE CANCER SUPPORT </span><br />\n<span style="font-size:18.0pt\;">GROUP&rsquo\;S</span><br />\n<span style="font-size:18.0pt\;">QUARTERLY MEETING</span><br />\n<span style="font-size:18.0pt\;">SATURDAY</span><br />\n<span style="font-size:18.0pt\;">AUGUST 4TH\, 2018</span><br />\n<span style="font-size:18.0pt\;">10:30 AM</span><br />\n<span style="font-size:18.0pt\;">MERCY HOSPITAL</span><br />\n<span style="font-size:18.0pt\;">MC AULEY CENTER</span><br />\n<span style="font-size:18.0pt\;">403 WOODLAND HILLS BLVD</span><br />\n<span style="font-size:18.0pt\;">FORT SCOTT\, KANSAS&nbsp\; 66701</span><br />\n&nbsp\;<br />\n<span style="font-size:11.0pt\;">This meeting is for anyone that has been affected by cancer\,</span><br />\n<span style="font-size:11.0pt\;">Fighters\, Survivors\, Families\, Friends\, Care Givers.</span><br />\n&nbsp\;<br />\n<span style="font-size:12.0pt\;">For More Information\, You May Contact:</span><br />\n<span style="font-size:12.0pt\;">Lavetta Simmons-620-224-8070</span><br />\n<span style="font-size:12.0pt\;">Dona Bauer-620-224-7075</span><br />\n<span style="font-size:12.0pt\;">Teresa Davenport-620-362-3042</span><br />\n&nbsp\;<br />\n<span style="font-size:14.0pt\;">Caring and Sharing for our Community Cancer Survivors</span>
LOCATION:Mercy McAuley Center
UID:e.2874.10636
SEQUENCE:3
DTSTAMP:20260425T155738Z
URL:https://fortscott.com/events/details/care-to-share-cancer-support-group-s-quarterly-meeting-10636
END:VEVENT

END:VCALENDAR
