BEGIN:VCALENDAR
VERSION:2.0
PRODID:-//ChamberMaster//Event Calendar 2.0//EN
METHOD:PUBLISH
X-PUBLISHED-TTL:P3D
REFRESH-INTERVAL:P3D
CALSCALE:GREGORIAN
BEGIN:VEVENT
DTSTART:20220507T153000Z
DTEND:20220507T163000Z
X-MICROSOFT-CDO-ALLDAYEVENT:FALSE
SUMMARY:Care to Share Quarterly Support Group Meeting - Open to the Public
DESCRIPTION:Care to Share QUARTERLY CANCER SUPPORT GROUP MEETING IS\n\n MAY 7TH\, 10:30 AM AT 902 HORTON\n\n\nThis meeting is for anyone that would like to attend\n\nCancer fighters\, their families and caregivers\, and anyone that cares to share
X-ALT-DESC;FMTTYPE=text/html:<div style="color: rgb(34\, 34\, 34)\; font-family: Arial\, Helvetica\, sans-serif\; font-size: small\;">Care to Share QUARTERLY CANCER SUPPORT GROUP MEETING IS</div>\n\n<div style="color: rgb(34\, 34\, 34)\; font-family: Arial\, Helvetica\, sans-serif\; font-size: small\;">&nbsp\;MAY 7TH\, 10:30 AM AT 902 HORTON</div>\n\n<div style="color: rgb(34\, 34\, 34)\; font-family: Arial\, Helvetica\, sans-serif\; font-size: small\;">\n<div style="color: rgb(34\, 34\, 34)\; font-family: Arial\, Helvetica\, sans-serif\; font-size: small\; background-color: rgb(255\, 255\, 255)\;">This meeting is for anyone that would like to attend</div>\n\n<div style="color: rgb(34\, 34\, 34)\; font-family: Arial\, Helvetica\, sans-serif\; font-size: small\; background-color: rgb(255\, 255\, 255)\;">Cancer fighters\, their families and caregivers\, and anyone that cares to share</div>\n</div>\n
LOCATION:902 Horton St
UID:e.2874.24550
SEQUENCE:3
DTSTAMP:20260425T161158Z
URL:https://fortscott.com/events/details/care-to-share-quarterly-support-group-meeting-open-to-the-public-24550
END:VEVENT

END:VCALENDAR
