BEGIN:VCALENDAR
VERSION:2.0
PRODID:-//ChamberMaster//Event Calendar 2.0//EN
METHOD:PUBLISH
X-PUBLISHED-TTL:P3D
REFRESH-INTERVAL:P3D
CALSCALE:GREGORIAN
BEGIN:VEVENT
DTSTART:20191016T221500Z
DTEND:20191017T000000Z
X-MICROSOFT-CDO-ALLDAYEVENT:FALSE
SUMMARY:Chamber After-hours at Holmtown Pub
DESCRIPTION:Save the Date for a Chamber After-hours at Holmtown Pub!\n\n\n\n$2 admission for 50/50 drawing\, door prizes\, great food & company!
X-ALT-DESC;FMTTYPE=text/html:Save the Date for a Chamber After-hours at Holmtown Pub!<br />\n<br />\n$2 admission for 50/50 drawing\, door prizes\, great food &amp\; company!
LOCATION:
UID:e.2874.13267
SEQUENCE:3
DTSTAMP:20260420T111920Z
URL:https://fortscott.com/events/details/chamber-after-hours-at-holmtown-pub-13267
END:VEVENT

END:VCALENDAR
