BEGIN:VCALENDAR
VERSION:2.0
PRODID:-//ChamberMaster//Event Calendar 2.0//EN
METHOD:PUBLISH
X-PUBLISHED-TTL:P3D
REFRESH-INTERVAL:P3D
CALSCALE:GREGORIAN
BEGIN:VEVENT
DTSTART:20220707T170000Z
DTEND:20220707T180000Z
X-MICROSOFT-CDO-ALLDAYEVENT:FALSE
SUMMARY:Chamber Blue Health Insurance Informational Session
DESCRIPTION:Fort Scott Area Chamber of Commerce announces\n\nChamber Blue\n\nHealth Insurance Offering\n\n________________________\n\nWe are excited to announce we are\n\njoining forces with CCEKS (Chamber of Commerce Executives of Kansas)\, \n\nBlue Cross Blue Shield of Kansas\, and \n\n37 other Chambers across the state to offer an association health plan to our members.\n\n__________________________\n\nJoin us for an informational session about the plan on\n\nThursday\, July 7th at the\n\nSleep Inn & Suites Conference Room:\n\n12pm\n\nClick to the right to Register to attend the session ~ All are welcome to come learn more.\n\n________________________\n\nAn interest survey will be available during the month of August for the plan. Those wanting to possibly take the insurance must complete the interest survey by August 31st. The rates will then come out in September and you can choose whether or not to actually take out the plan at that time.\n\nInsurance cards will be issued in December and the insurance will be effective January 1\, 2023.
X-ALT-DESC;FMTTYPE=text/html:<div style="color: rgb(82\, 74\, 75)\; font-family: Arial\, Verdana\, Helvetica\, sans-serif\; font-size: 32px\; font-weight: 700\; text-align: center\; white-space: pre-wrap\;"><span style="font-size:20px\;"><span style="font-family:times new roman\;"><span new="" times="">Fort Scott Area Chamber of Commerce announces</span></span></span><br />\n<span style="font-size:20px\;"><span style="font-family:times new roman\;"><span new="" times="">Chamber Blue</span></span></span></div>\n\n<div style="color: rgb(82\, 74\, 75)\; font-family: Arial\, Verdana\, Helvetica\, sans-serif\; font-size: 32px\; font-weight: 700\; text-align: center\; white-space: pre-wrap\;"><span style="font-size:20px\;"><span style="font-family:times new roman\;"><span new="" times="">Health Insurance Offering</span></span></span></div>\n\n<div style="color: rgb(82\, 74\, 75)\; font-family: Arial\, Verdana\, Helvetica\, sans-serif\; font-size: 32px\; font-weight: 700\; text-align: center\; white-space: pre-wrap\;"><span style="font-size:20px\;"><span style="font-family:times new roman\;">________________________</span></span></div>\n\n<div style="color: rgb(82\, 74\, 75)\; font-family: Arial\, Verdana\, Helvetica\, sans-serif\; font-size: 32px\; font-weight: 700\; text-align: center\; white-space: pre-wrap\;"><span style="font-size:20px\;"><span style="font-family:times new roman\;"><span font-size:="" new="" times="">We are excited to announce we are</span></span></span></div>\n\n<div style="color: rgb(82\, 74\, 75)\; font-family: Arial\, Verdana\, Helvetica\, sans-serif\; font-size: 32px\; font-weight: 700\; text-align: center\; white-space: pre-wrap\;"><span style="font-size:20px\;"><span style="font-family:times new roman\;"><span font-size:="" new="" times="">joining forces with CCEKS (Chamber of Commerce Executives of Kansas)\, </span></span></span></div>\n\n<div style="color: rgb(82\, 74\, 75)\; font-family: Arial\, Verdana\, Helvetica\, sans-serif\; font-size: 32px\; font-weight: 700\; text-align: center\; white-space: pre-wrap\;"><span style="font-size:20px\;"><span style="font-family:times new roman\;"><span font-size:="" new="" times="">Blue Cross Blue Shield of Kansas\, and </span></span></span></div>\n\n<div style="color: rgb(82\, 74\, 75)\; font-family: Arial\, Verdana\, Helvetica\, sans-serif\; font-size: 32px\; font-weight: 700\; text-align: center\; white-space: pre-wrap\;"><span style="font-size:20px\;"><span style="font-family:times new roman\;"><span font-size:="" new="" times="">37 other Chambers across the state to offer an association health plan to our members.</span></span></span></div>\n\n<div style="color: rgb(82\, 74\, 75)\; font-family: Arial\, Verdana\, Helvetica\, sans-serif\; font-size: 32px\; font-weight: 700\; text-align: center\; white-space: pre-wrap\;"><span style="font-size:20px\;"><span style="font-family:times new roman\;">__________________________</span></span></div>\n\n<div style="color: rgb(82\, 74\, 75)\; font-family: Arial\, Verdana\, Helvetica\, sans-serif\; font-size: 32px\; font-weight: 700\; text-align: center\; white-space: pre-wrap\;"><span style="font-size:20px\;"><span style="font-family:times new roman\;"><span font-size:="" new="" times="">Join us for an informational session about the plan on</span></span></span></div>\n\n<div style="color: rgb(82\, 74\, 75)\; font-family: Arial\, Verdana\, Helvetica\, sans-serif\; font-size: 32px\; font-weight: 700\; text-align: center\; white-space: pre-wrap\;"><span style="font-size:20px\;"><span style="font-family:times new roman\;"><span font-size:="" new="" times="">Thursday\, July 7th at the</span></span></span></div>\n\n<div style="color: rgb(82\, 74\, 75)\; font-family: Arial\, Verdana\, Helvetica\, sans-serif\; font-size: 32px\; font-weight: 700\; text-align: center\; white-space: pre-wrap\;"><span style="font-size:20px\;"><span style="font-family:times new roman\;"><span font-size:="" new="" times="">Sleep Inn &amp\; Suites Conference Room:</span></span></span></div>\n\n<div style="color: rgb(82\, 74\, 75)\; font-family: Arial\, Verdana\, Helvetica\, sans-serif\; font-size: 32px\; font-weight: 700\; text-align: center\; white-space: pre-wrap\;"><span style="font-size:20px\;"><span style="font-family:times new roman\;"><span font-size:="" new="" times="">12pm<br />\nClick to the right to Register to attend the session ~ All are welcome to come learn more.<br />\n________________________<br />\nAn interest survey will be available during the month of August for the plan. Those wanting to possibly take the insurance must complete the interest survey by August 31st. The rates will then come out in September and you can choose whether or not to actually take out the plan at that time.<br />\nInsurance cards will be issued in December and the insurance will be effective January 1\, 2023.</span></span></span></div>\n
LOCATION:Sleep Inn & Suites Conference Room 302 E. Wall St.
UID:e.2874.25104
SEQUENCE:3
DTSTAMP:20260419T122442Z
URL:https://fortscott.com/events/details/chamber-blue-health-insurance-informational-session-25104
END:VEVENT

END:VCALENDAR
