BEGIN:VCALENDAR
VERSION:2.0
PRODID:-//ChamberMaster//Event Calendar 2.0//EN
METHOD:PUBLISH
X-PUBLISHED-TTL:P3D
REFRESH-INTERVAL:P3D
CALSCALE:GREGORIAN
BEGIN:VEVENT
DTSTART:20260430T130000Z
DTEND:20260430T140000Z
X-MICROSOFT-CDO-ALLDAYEVENT:FALSE
SUMMARY:Chamber Coffee Briggs
DESCRIPTION:Join us for the weekly Chamber Coffee of the Fort Scott Area Chamber of Commerce!\n\nChamber Coffee hosted by Briggs\, 1819 S. Main St.\n\nHosted at a different member business or organization location each week.  The event starts at 8am\, generally the first 20 minutes is mingling & networking\; followed by announcement of guests & new Chamber members\; followed by remarks from the host business or organization\; followed by a door prize drawing.  The Coffees usually end between 8:45-8:50am.
X-ALT-DESC;FMTTYPE=text/html:<p class="pf0"><span class="cf0">Join us for the weekly Chamber Coffee of the Fort Scott Area Chamber of Commerce!</span></p>\n\n<p class="pf0"><strong>Chamber Coffee hosted by Briggs\, 1819 S. Main St.</strong></p>\n\n<p class="pf0"><span class="cf1">Hosted at a different member business or organization location each week.&nbsp\; The event starts at 8am\, generally the first 20 minutes is mingling &amp\; networking\; followed by announcement of guests &amp\; new Chamber members\; followed by remarks from the host business or organization\; followed by a door prize drawing.&nbsp\; The Coffees usually end between 8:45-8:50am.&nbsp\;</span></p>\n
LOCATION:
UID:e.2874.35401
SEQUENCE:3
DTSTAMP:20260424T013715Z
URL:https://fortscott.com/events/details/chamber-coffee-briggs-35401
END:VEVENT

END:VCALENDAR
