BEGIN:VCALENDAR
VERSION:2.0
PRODID:-//ChamberMaster//Event Calendar 2.0//EN
METHOD:PUBLISH
X-PUBLISHED-TTL:P3D
REFRESH-INTERVAL:P3D
CALSCALE:GREGORIAN
BEGIN:VEVENT
DTSTART:20221222T140000Z
DTEND:20221222T144500Z
X-MICROSOFT-CDO-ALLDAYEVENT:FALSE
SUMMARY:Chamber Coffee - HOLIDAY - NO CHAMBER COFFEE
DESCRIPTION:No Chamber Coffee - Merry Christmas!
X-ALT-DESC;FMTTYPE=text/html:No Chamber Coffee - Merry Christmas!
LOCATION:
UID:e.2874.22906
SEQUENCE:3
DTSTAMP:20260423T190856Z
URL:https://fortscott.com/events/details/chamber-coffee-holiday-no-chamber-coffee-22906
END:VEVENT

END:VCALENDAR
