BEGIN:VCALENDAR
VERSION:2.0
PRODID:-//ChamberMaster//Event Calendar 2.0//EN
METHOD:PUBLISH
X-PUBLISHED-TTL:P3D
REFRESH-INTERVAL:P3D
CALSCALE:GREGORIAN
BEGIN:VEVENT
DTSTART:20220421T130000Z
DTEND:20220421T140000Z
X-MICROSOFT-CDO-ALLDAYEVENT:FALSE
SUMMARY:Chamber Coffee hosted by Bourbon County Conservation District\, 8 am
DESCRIPTION:Join us for the weekly Chamber Coffee of the Fort Scott Area Chamber of Commerce hosted by Bourbon County Conservation District.
X-ALT-DESC;FMTTYPE=text/html:Join us for the weekly Chamber Coffee of the Fort Scott Area Chamber of Commerce hosted by Bourbon County Conservation District.<br />\n<br />\n&nbsp\;
LOCATION:1515 S. Judson St.
UID:e.2874.22873
SEQUENCE:3
DTSTAMP:20260425T190911Z
URL:https://fortscott.com/events/details/chamber-coffee-hosted-by-bourbon-county-conservation-district-8-am-22873
END:VEVENT

END:VCALENDAR
