BEGIN:VCALENDAR
VERSION:2.0
PRODID:-//ChamberMaster//Event Calendar 2.0//EN
METHOD:PUBLISH
X-PUBLISHED-TTL:P3D
REFRESH-INTERVAL:P3D
CALSCALE:GREGORIAN
BEGIN:VEVENT
DTSTART:20220505T130000Z
DTEND:20220505T140000Z
X-MICROSOFT-CDO-ALLDAYEVENT:FALSE
SUMMARY:Chamber Coffee hosted by Dry Wood Creek Cafe\, 750 S. National
DESCRIPTION:Join us for the weekly Chamber Coffee of the Fort Scott Area Chamber of Commerce hosted Nu-Grille Diner\, celebrating their 76th year in Business\, and 16 years in the current location\n\n\n\n\n\n\n\nHosted at a different member business or organization location each week.  The event starts at 8am\, generally the first 20 minutes is mingling & networking\; followed by announcement of guests & new Chamber members\; followed by remarks from the host business or organization\; followed by a door prize drawing.  The Coffees usually end between 8:45-8:50am.
X-ALT-DESC;FMTTYPE=text/html:Join us for the weekly Chamber Coffee of the Fort Scott Area Chamber of Commerce hosted Nu-Grille Diner\, celebrating their 76th year in Business\, and 16 years in the current location<br />\n<br />\n<br />\n<br />\nHosted at a different member business or organization location each week.&nbsp\; The event starts at 8am\, generally the first 20 minutes is mingling &amp\; networking\; followed by announcement of guests &amp\; new Chamber members\; followed by remarks from the host business or organization\; followed by a door prize drawing.&nbsp\; The Coffees usually end between 8:45-8:50am.
LOCATION:750 S. National Ave.
UID:e.2874.22875
SEQUENCE:3
DTSTAMP:20260425T162410Z
URL:https://fortscott.com/events/details/chamber-coffee-hosted-by-dry-wood-creek-cafe-750-s-national-22875
END:VEVENT

END:VCALENDAR
