BEGIN:VCALENDAR
VERSION:2.0
PRODID:-//ChamberMaster//Event Calendar 2.0//EN
METHOD:PUBLISH
X-PUBLISHED-TTL:P3D
REFRESH-INTERVAL:P3D
CALSCALE:GREGORIAN
BEGIN:VEVENT
DTSTART:20220609T130000Z
DTEND:20220609T140000Z
X-MICROSOFT-CDO-ALLDAYEVENT:FALSE
SUMMARY:Chamber Coffee hosted by Fort Scott Greyhound Football Legacy Center
DESCRIPTION:Join us for the weekly Chamber Coffee of the Fort Scott Area Chamber of Commerce hosted by Fort Scott Greyhound Football Legacy Center\, 11 N. Main St.  There will be a Ribbon Cutting to celebrate the opening of the Center at the conclusion of the Coffee.\n\n\n\nHosted at a different member business or organization location each week.  The event starts at 8 am. Generally\, the first 20 minutes is mingling & networking\; followed by the announcement of guests & new Chamber members\; followed by remarks from the host business or organization\; followed by a door prize drawing.  The Chamber Coffees usually end between 8:45-8:50am.
X-ALT-DESC;FMTTYPE=text/html:Join us for the weekly Chamber Coffee of the Fort Scott Area Chamber of Commerce&nbsp\;hosted by Fort Scott Greyhound Football Legacy Center\, 11 N. Main St.&nbsp\; There will be a Ribbon Cutting to celebrate the opening of the Center at the conclusion of the Coffee.<br />\n<br />\nHosted at a different member business or organization location each week.&nbsp\; The event starts at 8 am. Generally\, the first 20 minutes is mingling &amp\; networking\; followed by the&nbsp\;announcement of guests &amp\; new Chamber members\; followed by remarks from the host business or organization\; followed by a door prize drawing.&nbsp\; The Chamber Coffees usually end between 8:45-8:50am.
LOCATION:11 N. Main St. Fort Scott\, KS 66701
UID:e.2874.22817
SEQUENCE:3
DTSTAMP:20260425T143907Z
URL:https://fortscott.com/events/details/chamber-coffee-hosted-by-fort-scott-greyhound-football-legacy-center-22817
END:VEVENT

END:VCALENDAR
