BEGIN:VCALENDAR
VERSION:2.0
PRODID:-//ChamberMaster//Event Calendar 2.0//EN
METHOD:PUBLISH
X-PUBLISHED-TTL:P3D
REFRESH-INTERVAL:P3D
CALSCALE:GREGORIAN
BEGIN:VEVENT
DTSTART:20181004T130000Z
DTEND:20181004T134500Z
X-MICROSOFT-CDO-ALLDAYEVENT:FALSE
SUMMARY:Chamber Coffee\, hosted by Gordon Parks Museum\, 8am
DESCRIPTION:Join us for the weekly Chamber Coffee of the Fort Scott Area Chamber of Commerce. Hosted by Gordon Parks Museum in the Ellis Fine Art Center on the campus of FSCC.\n\n\n\nHosted at a different member business or organization location each week.  The event starts at 8am\, generally the first 20 minutes is mingling & networking\; followed by announcement of guests & new Chamber members\; followed by remarks from the host business or organization\; followed by a door prize drawing.  The Coffees usually end between 8:45-8:50am.
X-ALT-DESC;FMTTYPE=text/html:Join us for the weekly Chamber Coffee of the Fort Scott Area Chamber of Commerce. Hosted by Gordon Parks Museum in the Ellis Fine Art Center on the campus of FSCC.<br />\n<br />\nHosted at a different member business or organization location each week.&nbsp\; The event starts at 8am\, generally the first 20 minutes is mingling &amp\; networking\; followed by announcement of guests &amp\; new Chamber members\; followed by remarks from the host business or organization\; followed by a door prize drawing.&nbsp\; The Coffees usually end between 8:45-8:50am.
LOCATION:
UID:e.2874.4370
SEQUENCE:3
DTSTAMP:20260423T201402Z
URL:https://fortscott.com/events/details/chamber-coffee-hosted-by-gordon-parks-museum-8am-4370
END:VEVENT

END:VCALENDAR
