BEGIN:VCALENDAR
VERSION:2.0
PRODID:-//ChamberMaster//Event Calendar 2.0//EN
METHOD:PUBLISH
X-PUBLISHED-TTL:P3D
REFRESH-INTERVAL:P3D
CALSCALE:GREGORIAN
BEGIN:VEVENT
DTSTART:20210930T130000Z
DTEND:20210930T140000Z
X-MICROSOFT-CDO-ALLDAYEVENT:FALSE
SUMMARY:Chamber Coffee hosted by Pioneer Harvest Fiesta\, 9/30 at 8am!
DESCRIPTION:Join us for the weekly Chamber Coffee of the Fort Scott Area Chamber of Commerce hosted by 65th Annual Pioneer Harvest Fiesta\n\n\n\nHosted at a different member business or organization location each week.  The event starts at 8 am\, generally the first 20 minutes is mingling & networking\; followed by the announcement of guests & new Chamber members\; followed by remarks from the host business or organization\; followed by a door prize drawing.  The Coffees usually end between 8:45-8:50 am.
X-ALT-DESC;FMTTYPE=text/html:Join us for the weekly Chamber Coffee of the Fort Scott Area Chamber of Commerce hosted by 65th Annual Pioneer Harvest Fiesta<br />\n<br />\nHosted at a different member business or organization location each week.&nbsp\; The event starts at 8 am\, generally the first 20 minutes is mingling &amp\; networking\; followed by the announcement of guests &amp\; new Chamber members\; followed by remarks from the host business or organization\; followed by a door prize drawing.&nbsp\; The Coffees usually end between 8:45-8:50 am.<br />\n&nbsp\;
LOCATION:Bourbon County Fairgrounds Hubenett Fairgrounds
UID:e.2874.16980
SEQUENCE:3
DTSTAMP:20260421T124307Z
URL:https://fortscott.com/events/details/chamber-coffee-hosted-by-pioneer-harvest-fiesta-9-30-at-8am-16980
END:VEVENT

END:VCALENDAR
