BEGIN:VCALENDAR
VERSION:2.0
PRODID:-//ChamberMaster//Event Calendar 2.0//EN
METHOD:PUBLISH
X-PUBLISHED-TTL:P3D
REFRESH-INTERVAL:P3D
CALSCALE:GREGORIAN
BEGIN:VEVENT
DTSTART:20220519T130000Z
DTEND:20220519T140000Z
X-MICROSOFT-CDO-ALLDAYEVENT:FALSE
SUMMARY:Chamber Coffee - Hosted by Stare Farm: Celebrating 100 years
DESCRIPTION:This week the Fort Scott Chamber will be Hosted by State Farm celebrating 100 Years of business!\n\nJoin us for the weekly Chamber Coffee of the Fort Scott Area Chamber of Commerce.\n\n\n\nHosted at a different member business or organization location each week.  The event starts at 8am\, generally the first 20 minutes is mingling & networking\; followed by announcement of guests & new Chamber members\; followed by remarks from the host business or organization\; followed by a door prize drawing.  The Coffees usually end between 8:45-8:50am.
X-ALT-DESC;FMTTYPE=text/html:This week the Fort Scott Chamber will be Hosted by State Farm celebrating 100 Years of business!<br />\nJoin us for the weekly Chamber Coffee of the Fort Scott Area Chamber of Commerce.<br />\n<br />\nHosted at a different member business or organization location each week.&nbsp\; The event starts at 8am\, generally the first 20 minutes is mingling &amp\; networking\; followed by announcement of guests &amp\; new Chamber members\; followed by remarks from the host business or organization\; followed by a door prize drawing.&nbsp\; The Coffees usually end between 8:45-8:50am.
LOCATION:State Farm 1805 S. National Ave
UID:e.2874.22877
SEQUENCE:3
DTSTAMP:20260425T161453Z
URL:https://fortscott.com/events/details/chamber-coffee-hosted-by-stare-farm-celebrating-100-years-22877
END:VEVENT

END:VCALENDAR
