BEGIN:VCALENDAR
VERSION:2.0
PRODID:-//ChamberMaster//Event Calendar 2.0//EN
METHOD:PUBLISH
X-PUBLISHED-TTL:P3D
REFRESH-INTERVAL:P3D
CALSCALE:GREGORIAN
BEGIN:VEVENT
DTSTART:20211209T140000Z
DTEND:20211209T144500Z
X-MICROSOFT-CDO-ALLDAYEVENT:FALSE
SUMMARY:Chamber Coffee hosted by Sunshine Boutique
DESCRIPTION:The Chamber Coffee is hosted by Sunshine Boutique\n\n\n\nHosted at a different member business or organization location each week.  The event starts at 8 am\, generally the first 20 minutes is mingling & networking\; followed by the announcement of guests & new Chamber members\; followed by remarks from the host business or organization\; followed by a door prize drawing.  The Coffees usually end between 8:45-8:50 am.
X-ALT-DESC;FMTTYPE=text/html:The Chamber Coffee is hosted by Sunshine Boutique<br />\n<br />\nHosted at a different member business or organization location each week.&nbsp\; The event starts at 8 am\, generally the first 20 minutes is mingling &amp\; networking\; followed by the announcement of guests &amp\; new Chamber members\; followed by remarks from the host business or organization\; followed by a door prize drawing.&nbsp\; The Coffees usually end between 8:45-8:50 am.
LOCATION:18 E. Wall St.
UID:e.2874.20151
SEQUENCE:3
DTSTAMP:20260426T000320Z
URL:https://fortscott.com/events/details/chamber-coffee-hosted-by-sunshine-boutique-20151
END:VEVENT

END:VCALENDAR
