BEGIN:VCALENDAR
VERSION:2.0
PRODID:-//ChamberMaster//Event Calendar 2.0//EN
METHOD:PUBLISH
X-PUBLISHED-TTL:P3D
REFRESH-INTERVAL:P3D
CALSCALE:GREGORIAN
BEGIN:VEVENT
DTSTART:20220414T130000Z
DTEND:20220414T140000Z
X-MICROSOFT-CDO-ALLDAYEVENT:FALSE
SUMMARY:Chamber Coffee Hosted by T-Mobile - Ribbon Cutting!
DESCRIPTION:Please join us for this week's Chamber Coffee hosted by T-Mobile. Their Ribbon cutting event will follow immediately after the Chamber Coffee!\n\n\n\nHosted at a different member business or organization location each week.  The event starts at 8 am\, generally the first 20 minutes is mingling & networking\; followed by the announcement of guests & new Chamber members\; followed by remarks from the host business or organization\; followed by a door prize drawing.  The Coffees usually end between 8:45-8:50 am.
X-ALT-DESC;FMTTYPE=text/html:<br />\n<span style="background-color: rgb(255\, 255\, 255)\;"><font color="#555555" face="Raleway\, sans-serif"><span style="letter-spacing: 0.5px\;">Please join us for this week&#39\;s Chamber Coffee hosted by T-Mobile. Their Ribbon cutting event will follow immediately&nbsp\;after the Chamber Coffee!</span></font></span><br />\n<br />\nHosted at a different member business or organization location each week.&nbsp\; The event starts at 8 am\, generally the first 20 minutes is mingling &amp\; networking\; followed by the announcement of guests &amp\; new Chamber members\; followed by remarks from the host business or organization\; followed by a door prize drawing.&nbsp\; The Coffees usually end between 8:45-8:50 am.
LOCATION:T-Mobile 2400 S Main St\, Unit 300
UID:e.2874.22872
SEQUENCE:3
DTSTAMP:20260425T172707Z
URL:https://fortscott.com/events/details/chamber-coffee-hosted-by-t-mobile-ribbon-cutting-22872
END:VEVENT

END:VCALENDAR
