BEGIN:VCALENDAR
VERSION:2.0
PRODID:-//ChamberMaster//Event Calendar 2.0//EN
METHOD:PUBLISH
X-PUBLISHED-TTL:P3D
REFRESH-INTERVAL:P3D
CALSCALE:GREGORIAN
BEGIN:VEVENT
DTSTART:20220407T130000Z
DTEND:20220407T140000Z
X-MICROSOFT-CDO-ALLDAYEVENT:FALSE
SUMMARY:Chamber Coffee KOMB All Hit 103.9 Home Show Arnold Arena on FSCC Campus\, 8AM
DESCRIPTION:Chamber Coffee\, KOMB All Hit 103.9 Home Show
X-ALT-DESC;FMTTYPE=text/html:Chamber Coffee\, KOMB All Hit 103.9 Home Show
LOCATION:Arnold Arena on FSCC Campus
UID:e.2874.22871
SEQUENCE:3
DTSTAMP:20260425T173126Z
URL:https://fortscott.com/events/details/chamber-coffee-komb-all-hit-103-9-home-show-arnold-arena-on-fscc-campus-8am-22871
END:VEVENT

END:VCALENDAR
