BEGIN:VCALENDAR
VERSION:2.0
PRODID:-//ChamberMaster//Event Calendar 2.0//EN
METHOD:PUBLISH
X-PUBLISHED-TTL:P3D
REFRESH-INTERVAL:P3D
CALSCALE:GREGORIAN
BEGIN:VEVENT
DTSTART:20190919T130000Z
DTEND:20190919T130000Z
X-MICROSOFT-CDO-ALLDAYEVENT:FALSE
SUMMARY:Chamber Coffee - Lowell Milken Center
DESCRIPTION:This week's Chamber Coffee will be at the Lowell Milken Center located at 1 S. Main St. at 8am
X-ALT-DESC;FMTTYPE=text/html:This week&#39\;s Chamber Coffee will be at the Lowell Milken Center located at 1 S. Main St. at 8am
LOCATION:Lowell Milken Center\, 1 S. Main St.
UID:e.2874.10942
SEQUENCE:3
DTSTAMP:20260425T143304Z
URL:https://fortscott.com/events/details/chamber-coffee-lowell-milken-center-10942
END:VEVENT

END:VCALENDAR
