BEGIN:VCALENDAR
VERSION:2.0
PRODID:-//ChamberMaster//Event Calendar 2.0//EN
METHOD:PUBLISH
X-PUBLISHED-TTL:P3D
REFRESH-INTERVAL:P3D
CALSCALE:GREGORIAN
BEGIN:VEVENT
DTSTART:20220524T140000Z
DTEND:20220524T200000Z
X-MICROSOFT-CDO-ALLDAYEVENT:FALSE
SUMMARY:CHC/SEK FREE Sports Physicals - High School & Middle School Athletes
DESCRIPTION:SPORTS PHYSICALS AVAILABLE\n\nCHC/SEK will be offering FREE sports physicals for all high school and middle school students who plan to participate in athletics during the 2022-23 school year on Monday and Tuesday\, May 23rd and 24th\,  from 9 am - 3 pm in the FSHS Auxiliary Gym.  \n\nAll athletes are required per KSHSAA rules to have an updated physical in order to participate.  The physical for the upcoming school year must take place after May 1st of 2022.  \n\nThe KSHSAA physical form for the 2022-23 school year can be found on the FSHS website at the following link: https://www.usd234.org/o/fshs/documents/athletics/sports-physical-and-concussion-form/91902\n\nAlso located at this link is an Outreach Consent form from CHC that must be filled out and turned in with the physical form.  The Concussion and Heat Illness form that needs to be signed by the athlete and parent in order for athletes to be eligible is also located on the website at the above link.  Forms can also be picked up at the FSHS and FSMS offices.  Please double check to make sure all sections on all forms are filled out and signed by both the athlete and parent.  \n\nAgain\, there is no charge for these physicals. We hope to see everybody who plans to participate in athletics next year on May 23rd or 24th!
X-ALT-DESC;FMTTYPE=text/html:<p style="font-size: small\; margin: 0px 0px 16px\; padding: 0px\; border: 0px\; box-sizing: border-box\; color: rgb(76\, 76\, 76)\; font-family: &quot\;Neue Haas Grotesk Disp&quot\;\, Helvetica\, Arial\, sans-serif\; letter-spacing: 0.4px\;">SPORTS&nbsp\;PHYSICALS&nbsp\;AVAILABLE</p>\n\n<p style="font-size: small\; margin: 0px 0px 16px\; padding: 0px\; border: 0px\; box-sizing: border-box\; color: rgb(76\, 76\, 76)\; font-family: &quot\;Neue Haas Grotesk Disp&quot\;\, Helvetica\, Arial\, sans-serif\; letter-spacing: 0.4px\;">CHC/SEK will be offering FREE sports&nbsp\;physicals&nbsp\;for all high school and middle school students who plan to participate in athletics during the 2022-23 school year on Monday and Tuesday\, May 23rd and 24th\,&nbsp\; from 9 am - 3 pm in the FSHS Auxiliary Gym.&nbsp\;&nbsp\;</p>\n\n<p style="font-size: small\; margin: 0px 0px 16px\; padding: 0px\; border: 0px\; box-sizing: border-box\; color: rgb(76\, 76\, 76)\; font-family: &quot\;Neue Haas Grotesk Disp&quot\;\, Helvetica\, Arial\, sans-serif\; letter-spacing: 0.4px\;">All athletes are required per KSHSAA rules to have an updated&nbsp\;physical&nbsp\;in order to participate.&nbsp\; The&nbsp\;physical&nbsp\;for the upcoming school year must take place after May 1st of 2022.&nbsp\;&nbsp\;</p>\n\n<p style="font-size: small\; margin: 0px 0px 16px\; padding: 0px\; border: 0px\; box-sizing: border-box\; color: rgb(76\, 76\, 76)\; font-family: &quot\;Neue Haas Grotesk Disp&quot\;\, Helvetica\, Arial\, sans-serif\; letter-spacing: 0.4px\;">The KSHSAA&nbsp\;physical&nbsp\;form for the 2022-23 school year can be found on the FSHS website at the following link:&nbsp\;<a data-saferedirecturl="https://www.google.com/url?q=https://www.usd234.org/o/fshs/documents/athletics/sports-physical-and-concussion-form/91902&amp\;source=gmail&amp\;ust=1651595440783000&amp\;usg=AOvVaw3oqYu6YWwOzi7lxhUH61e_" href="https://www.usd234.org/o/fshs/documents/athletics/sports-physical-and-concussion-form/91902" style="color: rgb(17\, 85\, 204)\;" target="_blank">https://www.usd234.org/<wbr />o/fshs/documents/athletics/<wbr />sports-physical-and-<wbr />concussion-form/91902</a></p>\n\n<p style="font-size: small\; margin: 0px 0px 16px\; padding: 0px\; border: 0px\; box-sizing: border-box\; color: rgb(76\, 76\, 76)\; font-family: &quot\;Neue Haas Grotesk Disp&quot\;\, Helvetica\, Arial\, sans-serif\; letter-spacing: 0.4px\;">Also located at this link is an Outreach Consent form from CHC that must be filled out and turned in with the&nbsp\;physical&nbsp\;form.&nbsp\; The Concussion and Heat Illness form that needs to be signed by the athlete and parent in order for athletes to be eligible is also located on the website at the above link.&nbsp\; Forms can also be picked up at the FSHS and FSMS offices.&nbsp\; Please double check to make sure all sections on all forms are filled out and signed by both the athlete and parent.&nbsp\;&nbsp\;</p>\n\n<p style="font-size: small\; margin: 0px 0px 16px\; padding: 0px\; border: 0px\; box-sizing: border-box\; color: rgb(76\, 76\, 76)\; font-family: &quot\;Neue Haas Grotesk Disp&quot\;\, Helvetica\, Arial\, sans-serif\; letter-spacing: 0.4px\;">Again\, there is no charge for these physicals. We hope to see everybody who plans to participate in athletics next year on May 23rd or 24th!&nbsp\;</p>\n
LOCATION:
UID:e.2874.25029
SEQUENCE:3
DTSTAMP:20260425T161732Z
URL:https://fortscott.com/events/details/chc-sek-free-sports-physicals-high-school-middle-school-athletes-05-24-2022-25029
END:VEVENT

END:VCALENDAR
