BEGIN:VCALENDAR
VERSION:2.0
PRODID:-//ChamberMaster//Event Calendar 2.0//EN
METHOD:PUBLISH
X-PUBLISHED-TTL:P3D
REFRESH-INTERVAL:P3D
CALSCALE:GREGORIAN
BEGIN:VEVENT
DTSTART:20220517T120000Z
DTEND:20220518T000000Z
X-MICROSOFT-CDO-ALLDAYEVENT:FALSE
SUMMARY:CHC/SEK mammogram screening event
DESCRIPTION:CHC/SEK Fort Scott to host mammogram screening event\n\n \n\n\n\nFORT SCOTT   Who says breast cancer awareness is only for October? \n\n\n\nCommunity Health Center of Southeast Kansas is hosting Mammo Mania\, a mammography screening event for women age 40 and older who have not received a recent mammogram. The event will be from 7 a.m. to 7 p.m. on Tuesday\, May 17 at the Fort Scott main clinic located at 401 Woodland Hills Blvd Fort Scott.  \n\n \n\n\n\nWomen in Southeast Kansas rank far below state and national averages in receiving this life-saving screening\, and having the service available within the clinic helps remove barriers many women have in receiving timely breast cancer screenings. Likewise\, the walk-in event will give patients an option on when they can arrive.  \n\n \n\n\n\nBecause CHC/SEK believes every woman should have the best quality mammogram available\, every patient receives a 3D exam.  A physician's referral is also not required. The screening is available to eligible women regardless of ability to pay.  \n\n\n\nCHC/SEK uses the Hologic Genius system that screens the breast in 4 seconds for a much less compression time\, with less radiation exposure than many conventional mammography machines. The Genius exam is also superior for denser breasts\, that that can hide early signs of cancer in a traditional mammogram.  \n\n \n\n\n\nIn addition\, the Hologic Genius scans potentially reduce patient callback by up to 40 percent compared to 2D\, sparing the emotional and economic toll of additional testing\, including biopsies when there could be nothing wrong.  \n\n \n\n\n\nFor more information people can call 620-223-8484.
X-ALT-DESC;FMTTYPE=text/html:<div style="color: rgb(0\, 0\, 0)\; margin: 0px\; clear: both\; font-family: &quot\;Segoe UI&quot\;\, &quot\;Segoe UI Web&quot\;\, Arial\, Verdana\, sans-serif\; font-size: 12px\;">\n<p lang="EN-US" style="margin: 0px\; font-kerning: none\; color: windowtext\;"><span lang="EN-US" style="margin: 0px\; font-size: 14pt\; line-height: 22.6625px\; font-family: Calibri\, Calibri_EmbeddedFont\, Calibri_MSFontService\, sans-serif\; font-weight: bold\; font-variant-ligatures: none !important\;"><span style="margin: 0px\; font-family: Cambria\, Georgia\, serif\; color: rgb(15\, 92\, 26)\;">CHC/SEK Fort Scott to host&nbsp\;</span><span style="margin: 0px\; font-family: Cambria\, Georgia\, serif\; color: rgb(15\, 92\, 26)\;">mammogram screening event</span></span></p>\n\n<p lang="EN-US" style="margin: 0px\; font-kerning: none\; color: windowtext\;">&nbsp\;</p>\n</div>\n\n<div style="color: rgb(0\, 0\, 0)\; margin: 0px\; clear: both\; font-family: &quot\;Segoe UI&quot\;\, &quot\;Segoe UI Web&quot\;\, Arial\, Verdana\, sans-serif\; font-size: 12px\;">\n<p lang="EN-US" style="margin: 0px\; font-kerning: none\; color: windowtext\;"><span lang="EN-US" style="margin: 0px\; font-size: 14pt\; line-height: 22.6625px\; font-family: Calibri\, Calibri_EmbeddedFont\, Calibri_MSFontService\, sans-serif\; font-variant-ligatures: none !important\;"><span style="margin: 0px\;">FORT SCOTT &mdash\;&nbsp\;</span><span style="margin: 0px\;">Who says breast cancer awareness is only for October?</span></span><span style="margin: 0px\; font-size: 14pt\; line-height: 22.6625px\; font-family: Calibri\, Calibri_EmbeddedFont\, Calibri_MSFontService\, sans-serif\;">&nbsp\;</span></p>\n</div>\n\n<div style="color: rgb(0\, 0\, 0)\; margin: 0px\; clear: both\; font-family: &quot\;Segoe UI&quot\;\, &quot\;Segoe UI Web&quot\;\, Arial\, Verdana\, sans-serif\; font-size: 12px\;">\n<p lang="EN-US" style="margin: 0px\; font-kerning: none\; color: windowtext\;"><span lang="EN-US" style="margin: 0px\; font-size: 14pt\; line-height: 22.6625px\; font-family: Calibri\, Calibri_EmbeddedFont\, Calibri_MSFontService\, sans-serif\; font-variant-ligatures: none !important\;"><span style="margin: 0px\;">Community Health Center of Southeast Kansas is hosting&nbsp\;</span><span style="margin: 0px\;">Mammo Mania\,</span><span style="margin: 0px\;">&nbsp\;a mammography screening event for women age 40 and older who have not received a recent mammogram. The event will be from 7 a.m. to 7 p.m. on Tuesday\, May&nbsp\;17 at the Fort Scott main clinic located at&nbsp\;</span><span style="margin: 0px\;">401 Woodland Hills Blvd Fort Scott.&nbsp\;</span></span><span style="margin: 0px\; font-size: 14pt\; line-height: 22.6625px\; font-family: Calibri\, Calibri_EmbeddedFont\, Calibri_MSFontService\, sans-serif\;">&nbsp\;</span></p>\n\n<p lang="EN-US" style="margin: 0px\; font-kerning: none\; color: windowtext\;">&nbsp\;</p>\n</div>\n\n<div style="color: rgb(0\, 0\, 0)\; margin: 0px\; clear: both\; font-family: &quot\;Segoe UI&quot\;\, &quot\;Segoe UI Web&quot\;\, Arial\, Verdana\, sans-serif\; font-size: 12px\;">\n<p lang="EN-US" style="margin: 0px\; font-kerning: none\; color: windowtext\;"><span lang="EN-US" style="margin: 0px\; font-size: 14pt\; line-height: 22.6625px\; font-family: Calibri\, Calibri_EmbeddedFont\, Calibri_MSFontService\, sans-serif\; font-variant-ligatures: none !important\;"><span style="margin: 0px\;">Women in Southeast Kansas rank far below state and national averages in receiving this life-saving screening\, and having the service available within the clinic helps remove barriers many women have in receiving timely breast cancer screenings.</span><span style="margin: 0px\;">&nbsp\;</span></span><span lang="EN-US" style="margin: 0px\; font-size: 14pt\; line-height: 22.6625px\; font-family: Calibri\, Calibri_EmbeddedFont\, Calibri_MSFontService\, sans-serif\; font-variant-ligatures: none !important\;"><span style="margin: 0px\;">Likewise\, the walk-in event will give patients an option on when they can&nbsp\;</span><span style="margin: 0px\;">arrive</span><span style="margin: 0px\;">.&nbsp\;</span></span><span style="margin: 0px\; font-size: 14pt\; line-height: 22.6625px\; font-family: Calibri\, Calibri_EmbeddedFont\, Calibri_MSFontService\, sans-serif\;">&nbsp\;</span></p>\n\n<p lang="EN-US" style="margin: 0px\; font-kerning: none\; color: windowtext\;">&nbsp\;</p>\n</div>\n\n<div style="color: rgb(0\, 0\, 0)\; margin: 0px\; clear: both\; font-family: &quot\;Segoe UI&quot\;\, &quot\;Segoe UI Web&quot\;\, Arial\, Verdana\, sans-serif\; font-size: 12px\;">\n<p lang="EN-US" style="margin: 0px\; font-kerning: none\; color: windowtext\;"><span lang="EN-US" style="margin: 0px\; font-size: 14pt\; line-height: 22.6625px\; font-family: Calibri\, Calibri_EmbeddedFont\, Calibri_MSFontService\, sans-serif\;"><span style="margin: 0px\;">Because CHC/SEK believes every woman should have the best quality mammogram available\,</span><span style="margin: 0px\;">&nbsp\;every patient&nbsp\;</span><span style="margin: 0px\;">receives a 3D exam.&nbsp\;</span><span style="margin: 0px\;">&nbsp\;</span></span><span lang="EN-US" style="margin: 0px\; font-size: 14pt\; line-height: 22.6625px\; font-family: Calibri\, Calibri_EmbeddedFont\, Calibri_MSFontService\, sans-serif\; font-variant-ligatures: none !important\;">A physician&#39\;s referral is also not required. The screening is available to eligible women regardless of ability to pay.&nbsp\;</span><span style="margin: 0px\; font-size: 14pt\; line-height: 22.6625px\; font-family: Calibri\, Calibri_EmbeddedFont\, Calibri_MSFontService\, sans-serif\;">&nbsp\;</span></p>\n</div>\n\n<div style="color: rgb(0\, 0\, 0)\; margin: 0px\; clear: both\; font-family: &quot\;Segoe UI&quot\;\, &quot\;Segoe UI Web&quot\;\, Arial\, Verdana\, sans-serif\; font-size: 12px\;">\n<p lang="EN-US" style="margin: 0px\; font-kerning: none\; color: windowtext\;"><span lang="EN-US" style="margin: 0px\; font-size: 14pt\; line-height: 22.6625px\; font-family: Calibri\, Calibri_EmbeddedFont\, Calibri_MSFontService\, sans-serif\;">CHC/SEK uses the Hologic Genius system that screens the breast in 4 seconds for a much less compression time\, with less radiation exposure than many conventional mammography machines. The Genius exam is also superior for denser breasts\, that that can hide early signs of cancer in a traditional mammogram.&nbsp\;</span><span style="margin: 0px\; font-size: 14pt\; line-height: 22.6625px\; font-family: Calibri\, Calibri_EmbeddedFont\, Calibri_MSFontService\, sans-serif\;">&nbsp\;</span></p>\n\n<p lang="EN-US" style="margin: 0px\; font-kerning: none\; color: windowtext\;">&nbsp\;</p>\n</div>\n\n<div style="color: rgb(0\, 0\, 0)\; margin: 0px\; clear: both\; font-family: &quot\;Segoe UI&quot\;\, &quot\;Segoe UI Web&quot\;\, Arial\, Verdana\, sans-serif\; font-size: 12px\;">\n<p lang="EN-US" style="margin: 0px\; font-kerning: none\; color: windowtext\;"><span lang="EN-US" style="margin: 0px\; font-size: 14pt\; line-height: 22.6625px\; font-family: Calibri\, Calibri_EmbeddedFont\, Calibri_MSFontService\, sans-serif\;"><span style="margin: 0px\;">In addition\, the Hologic Genius scans potentially reduce patient callback by up to 40 percent compared to 2D\, sparing&nbsp\;</span><span style="margin: 0px\;">the emotional and economic toll of additional testing\, including biopsies when there could be nothing wrong.&nbsp\;</span></span><span style="margin: 0px\; font-size: 14pt\; line-height: 22.6625px\; font-family: Calibri\, Calibri_EmbeddedFont\, Calibri_MSFontService\, sans-serif\;">&nbsp\;</span></p>\n\n<p lang="EN-US" style="margin: 0px\; font-kerning: none\; color: windowtext\;">&nbsp\;</p>\n</div>\n\n<div style="color: rgb(0\, 0\, 0)\; margin: 0px\; clear: both\; font-family: &quot\;Segoe UI&quot\;\, &quot\;Segoe UI Web&quot\;\, Arial\, Verdana\, sans-serif\; font-size: 12px\;">\n<p lang="EN-US" style="margin: 0px\; font-kerning: none\; color: windowtext\;"><span lang="EN-US" style="margin: 0px\; font-size: 14pt\; line-height: 22.6625px\; font-family: Calibri\, Calibri_EmbeddedFont\, Calibri_MSFontService\, sans-serif\;"><span style="margin: 0px\;">For more information people can call&nbsp\;</span><span style="margin: 0px\;">620-223-8484.</span></span><span style="margin: 0px\; font-size: 14pt\; line-height: 22.6625px\; font-family: Calibri\, Calibri_EmbeddedFont\, Calibri_MSFontService\, sans-serif\;">&nbsp\;</span></p>\n</div>\n
LOCATION:
UID:e.2874.25075
SEQUENCE:3
DTSTAMP:20260425T160929Z
URL:https://fortscott.com/events/details/chc-sek-mammogram-screening-event-25075
END:VEVENT

END:VCALENDAR
