BEGIN:VCALENDAR
VERSION:2.0
PRODID:-//ChamberMaster//Event Calendar 2.0//EN
METHOD:PUBLISH
X-PUBLISHED-TTL:P3D
REFRESH-INTERVAL:P3D
CALSCALE:GREGORIAN
BEGIN:VEVENT
DTSTART:20211218T230000Z
DTEND:20211219T030000Z
X-MICROSOFT-CDO-ALLDAYEVENT:FALSE
SUMMARY:Christmas in the Park 2021 ~ Gunn Park Christmas Festivals
DESCRIPTION:Christmas in the Park 2021 event on December 11th & December 18th\n\n\n\nFREE - OPEN TO ALL & SOMETHING FOR EVERYONE!\n\n\n\nSchedule for Dec 18\n\n(Gifts are available for purchased from Christmas Shop Vendors)\n\n5:00 pm - 8:30 pm: Angel Gifts Toy Drive\, Hot Cocoa and Coffee\, Vendor Shop\, Kids Crafts\,\n\nHay rack and Trolley Rides\, & Live Nativity Scene by Bethel Church\n\n5:00pm - Until: Food Vendors - Butcher Block & Tres Polito's\n\n5:30pm - 8:30 pm: Christmas Music Performance by Bourbon County Revival\n\n6:00pm - 6:15pm: Santa & Special Guest arrive\, Tree Lighting\, Sponsor Acknowledgements\n\n6:30pm - 8:30pm: Pictures with Santa\n\n8:30pm - 8:45pm: Event activities close\n\n8:45pm - 9:00pm: Final Hay rack & Trolley rides to busses\n\n9:00pm: All bus runs to parking completed & Park gates lock for the night\n\n \n\nParking?\n\n \n\nThe Park will be closed for regular traffic during the event. Vehicles with handicap parking tags or window hanger will be allowed to drive into the park near the event. Parking is available on Burk St. in the Nursing Building parking lot North of the pickle ball court and in the CHCSEK parking lot on 9th St. Busses to and from the event will bring guests in and out the park.\n\n\n\nWhat vendors will be there?\n\n\n\nSparkle R Jewelry (Paparazzi jewelry)   Dec 18\n\n*NOTE: Vendor registration for December 18 is open through December 16. Interested vendors can sign up at https://forms.gle/PC8M4ufzADNxpBLb6\n\n_______________________\n\n\n\nWe will be collecting new unwrapped toys for our "Fill the Truck" Toy Drive with donations going to Bourbon County Angels\, Angel Gifts to fulfill Christmas wishes for kids in Bourbon County.
X-ALT-DESC;FMTTYPE=text/html:<strong><span style="font-size: 18px\;">Christmas in the Park 2021 event on December 11th &amp\; December 18th</span></strong><br />\n<br />\n<span style="font-size: 16px\;">FREE - OPEN TO ALL &amp\; SOMETHING FOR EVERYONE!</span><br />\n<br />\n<strong><span style="color: rgb(192\, 0\, 0)\;"><span style="font-family: &quot\;segoe ui&quot\;\, sans-serif\;"><span style="font-size: 11.5pt\;">Schedule for Dec 18</span></span></span></strong><br />\n<span style="color: rgb(192\, 0\, 0)\;"><span style="font-family: &quot\;segoe ui historic&quot\;\, sans-serif\;"><span style="font-size: 11.5pt\;">(Gifts are available for purchased from Christmas Shop Vendors)</span></span></span><br />\n<span style="color: rgb(192\, 0\, 0)\;"><span style="font-family: &quot\;segoe ui historic&quot\;\, sans-serif\;"><span style="font-size: 11.5pt\;">5:00 pm - 8:30 pm: Angel Gifts Toy Drive\, Hot Cocoa and Coffee\, Vendor Shop\, Kids Crafts\,<br />\nHay rack and Trolley Rides\, &amp\; Live Nativity Scene by Bethel Church</span></span></span><br />\n<span style="color: rgb(192\, 0\, 0)\;"><span style="font-family: &quot\;segoe ui historic&quot\;\, sans-serif\;"><span style="font-size: 11.5pt\;">5:00pm - Until: Food Vendors - Butcher Block &amp\; Tres Polito&#39\;s<br />\n5:30pm - 8:30 pm: Christmas Music Performance by Bourbon County Revival<br />\n6:00pm - 6:15pm: Santa &amp\; Special Guest arrive\, Tree Lighting\, Sponsor Acknowledgements<br />\n6:30pm - 8:30pm: Pictures with Santa<br />\n8:30pm - 8:45pm: Event activities close<br />\n8:45pm - 9:00pm: Final Hay rack &amp\; Trolley rides to busses<br />\n9:00pm: All bus runs to parking completed &amp\; Park gates lock for the night</span></span></span><br />\n&nbsp\;<br />\n<span style="color: rgb(32\, 31\, 30)\;"><span style="font-family: &quot\;segoe ui&quot\;\, sans-serif\;"><span style="font-size: 11.5pt\;">Parking?</span></span></span><br />\n&nbsp\;<br />\n<span style="color: rgb(192\, 0\, 0)\;"><span style="font-family: &quot\;segoe ui historic&quot\;\, sans-serif\;"><span style="font-size: 11.5pt\;">The Park will be closed for regular traffic during the event. Vehicles with handicap parking tags or window hanger will be allowed to drive into the park near the event. Parking is available on Burk St. in the Nursing Building parking lot North of the pickle ball court and in the CHCSEK parking lot on 9<sup>th</sup>&nbsp\;St. Busses to and from the event will bring guests in and out the park.</span></span></span><br />\n<br />\n<span style="color: rgb(0\, 0\, 0)\;"><span style="font-family: &quot\;segoe ui historic&quot\;\, sans-serif\;"><span style="font-size: 11.5pt\;">What vendors will be there?</span></span></span><br />\n<br />\n<span style="letter-spacing: 0.15pt\;"><span style="color: rgb(192\, 0\, 0)\;"><span style="font-family: arial\, sans-serif\;"><span style="font-size: 10.5pt\;">Sparkle R Jewelry (Paparazzi jewelry) &ndash\; Dec 18</span></span></span></span><br />\n<span style="letter-spacing: 0.15pt\;"><span style="color: rgb(192\, 0\, 0)\;"><span style="font-family: arial\, sans-serif\;"><span style="font-size: 10.5pt\;">*NOTE: Vendor registration for December 18 is open through December 16. Interested vendors can sign up at&nbsp\;</span></span></span></span><span style="color: black\;"><a href="about:blank"><span style="letter-spacing: 0.15pt\;"><span style="color: rgb(192\, 0\, 0)\;"><span style="font-family: arial\, sans-serif\;"><span style="font-size: 10.5pt\;">https://forms.gle/PC8M4ufzADNxpBLb6<br />\n_______________________</span></span></span></span></a></span><br />\n<br />\n<span style="color: rgb(192\, 0\, 0)\;"><span style="font-family: &quot\;segoe ui&quot\;\, sans-serif\;"><span style="font-size: 11.5pt\;">We will be collecting new unwrapped toys for our &ldquo\;Fill the Truck&rdquo\; Toy Drive with donations going to Bourbon County Angels\, Angel Gifts to fulfill Christmas wishes for kids in Bourbon County.</span></span></span>
LOCATION:Gunn Park 1010 Park Blvd Fort Scott\, KS
UID:e.2874.22074
SEQUENCE:3
DTSTAMP:20260426T013952Z
URL:https://fortscott.com/events/details/christmas-in-the-park-2021-gunn-park-christmas-festivals-22074
END:VEVENT

END:VCALENDAR
