BEGIN:VCALENDAR
VERSION:2.0
PRODID:-//ChamberMaster//Event Calendar 2.0//EN
METHOD:PUBLISH
X-PUBLISHED-TTL:P3D
REFRESH-INTERVAL:P3D
CALSCALE:GREGORIAN
BEGIN:VEVENT
DTSTART:20220503T210000Z
DTEND:20220504T010000Z
X-MICROSOFT-CDO-ALLDAYEVENT:FALSE
SUMMARY:Cinco De Mayo with The Beauty Lounge Girls
DESCRIPTION:Come join The Beauty Lounge Girls for endless margaritas + a taco bar while the girls offer brow waxing w/ optional tint & feather hair extension add ons. Each ticket includes brows with our Esthetician Tuker and 2 feather hair pieces put in by our stylist Aubrey as well as endless margaritas & taco bar + more!\n\n20% off all products + exclusive openings to our scheduling books\n\n\n\nBuy your tickets here!\n\nhttps://www.eventbrite.com/e/cinco-de-mayo-tickets-298734130827?fbclid=IwAR19Abi6AXHCsXWrpHzt0ApDdEGc515FyT9uZpIiePPwY6WjA5tWstCQj6w
X-ALT-DESC;FMTTYPE=text/html:<p style="margin: 0px\; padding: 0px\; color: rgb(111\, 114\, 135)\; font-size: 16px\; line-height: 1.5rem\; font-family: &quot\;Neue Plak&quot\;\, -apple-system\, BlinkMacSystemFont\, Roboto\, &quot\;Helvetica Neue&quot\;\, Helvetica\, Tahoma\, Arial\, sans-serif\; letter-spacing: 0.5px\; background-color: rgb(255\, 255\, 255)\;">Come join The Beauty Lounge Girls for endless margaritas + a taco bar while the girls offer brow waxing w/ optional tint &amp\; feather hair extension add ons. Each ticket includes brows with our Esthetician Tuker and 2 feather hair pieces put in by our stylist Aubrey as well as endless margaritas &amp\; taco bar + more!</p>\n\n<p style="margin: 0px\; padding: 10px 0px 0px\; color: rgb(111\, 114\, 135)\; font-size: 16px\; line-height: 1.5rem\; font-family: &quot\;Neue Plak&quot\;\, -apple-system\, BlinkMacSystemFont\, Roboto\, &quot\;Helvetica Neue&quot\;\, Helvetica\, Tahoma\, Arial\, sans-serif\; letter-spacing: 0.5px\; background-color: rgb(255\, 255\, 255)\;">20% off all products + exclusive openings to our scheduling books<br />\n<br />\nBuy your tickets here!<br />\nhttps://www.eventbrite.com/e/cinco-de-mayo-tickets-298734130827?fbclid=IwAR19Abi6AXHCsXWrpHzt0ApDdEGc515FyT9uZpIiePPwY6WjA5tWstCQj6w</p>\n
LOCATION:4 S. Main St Fort Scott\, KS
UID:e.2874.24562
SEQUENCE:3
DTSTAMP:20260425T161158Z
URL:https://fortscott.com/events/details/cinco-de-mayo-with-the-beauty-lounge-girls-24562
END:VEVENT

END:VCALENDAR
