BEGIN:VCALENDAR
VERSION:2.0
PRODID:-//ChamberMaster//Event Calendar 2.0//EN
METHOD:PUBLISH
X-PUBLISHED-TTL:P3D
REFRESH-INTERVAL:P3D
CALSCALE:GREGORIAN
BEGIN:VEVENT
DTSTART:20211207T180000Z
DTEND:20211207T190000Z
X-MICROSOFT-CDO-ALLDAYEVENT:FALSE
SUMMARY:City Commission Special Meeting with Noble Health
DESCRIPTION:City Commission special meeting with Noble Health\n\nLandmark National Bank\, 2nd Floor\, 200 S. Main St.
X-ALT-DESC;FMTTYPE=text/html:City Commission special meeting with Noble Health<br />\nLandmark National Bank\, 2nd Floor\, 200 S. Main St.
LOCATION:
UID:e.2874.22824
SEQUENCE:3
DTSTAMP:20260426T000759Z
URL:https://fortscott.com/events/details/city-commission-special-meeting-with-noble-health-22824
END:VEVENT

END:VCALENDAR
