BEGIN:VCALENDAR
VERSION:2.0
PRODID:-//ChamberMaster//Event Calendar 2.0//EN
METHOD:PUBLISH
X-PUBLISHED-TTL:P3D
REFRESH-INTERVAL:P3D
CALSCALE:GREGORIAN
BEGIN:VEVENT
DTSTART:20220510T210000Z
DTEND:20220510T220000Z
X-MICROSOFT-CDO-ALLDAYEVENT:FALSE
SUMMARY:City Design Review Board Meeting
DESCRIPTION:City Design Review Board Meeting\n\nCity Hall\n\n4pm
X-ALT-DESC;FMTTYPE=text/html:City Design Review Board Meeting<br />\nCity Hall<br />\n4pm
LOCATION:
UID:e.2874.25076
SEQUENCE:3
DTSTAMP:20260425T161036Z
URL:https://fortscott.com/events/details/city-design-review-board-meeting-25076
END:VEVENT

END:VCALENDAR
