BEGIN:VCALENDAR
VERSION:2.0
PRODID:-//ChamberMaster//Event Calendar 2.0//EN
METHOD:PUBLISH
X-PUBLISHED-TTL:P3D
REFRESH-INTERVAL:P3D
CALSCALE:GREGORIAN
BEGIN:VEVENT
DTSTART:20220514T140000Z
DTEND:20220514T150000Z
X-MICROSOFT-CDO-ALLDAYEVENT:FALSE
SUMMARY:City Lake Advisory Board Meeting
DESCRIPTION:City of Fort Scott \n\nLake Advisory Board Meeting\n\n9am\n\nCity Hall
X-ALT-DESC;FMTTYPE=text/html:City of Fort Scott&nbsp\;<br />\nLake Advisory Board Meeting<br />\n9am<br />\nCity Hall
LOCATION:
UID:e.2874.25082
SEQUENCE:3
DTSTAMP:20260425T161447Z
URL:https://fortscott.com/events/details/city-lake-advisory-board-meeting-25082
END:VEVENT

END:VCALENDAR
