BEGIN:VCALENDAR
VERSION:2.0
PRODID:-//ChamberMaster//Event Calendar 2.0//EN
METHOD:PUBLISH
X-PUBLISHED-TTL:P3D
REFRESH-INTERVAL:P3D
CALSCALE:GREGORIAN
BEGIN:VEVENT
DTSTART:20220718T210000Z
DTEND:20220718T220000Z
X-MICROSOFT-CDO-ALLDAYEVENT:FALSE
SUMMARY:City Land Bank Meeting
DESCRIPTION:City Land Bank Meeting\n\nCity Hall\n\n4pm
X-ALT-DESC;FMTTYPE=text/html:City Land Bank Meeting<br />\nCity Hall<br />\n4pm
LOCATION:
UID:e.2874.25117
SEQUENCE:3
DTSTAMP:20260419T122518Z
URL:https://fortscott.com/events/details/city-land-bank-meeting-25117
END:VEVENT

END:VCALENDAR
