BEGIN:VCALENDAR
VERSION:2.0
PRODID:-//ChamberMaster//Event Calendar 2.0//EN
METHOD:PUBLISH
X-PUBLISHED-TTL:P3D
REFRESH-INTERVAL:P3D
CALSCALE:GREGORIAN
BEGIN:VEVENT
DTSTART:20220523T210000Z
DTEND:20220523T220000Z
X-MICROSOFT-CDO-ALLDAYEVENT:FALSE
SUMMARY:City Land Bank Meeting\, 4pm
DESCRIPTION:City Land Bank Meeting\n\n4pm\n\nCity Hall
X-ALT-DESC;FMTTYPE=text/html:City Land Bank Meeting<br />\n4pm<br />\nCity Hall
LOCATION:
UID:e.2874.25093
SEQUENCE:3
DTSTAMP:20260425T161053Z
URL:https://fortscott.com/events/details/city-land-bank-meeting-4pm-25093
END:VEVENT

END:VCALENDAR
