BEGIN:VCALENDAR
VERSION:2.0
PRODID:-//ChamberMaster//Event Calendar 2.0//EN
METHOD:PUBLISH
X-PUBLISHED-TTL:P3D
REFRESH-INTERVAL:P3D
CALSCALE:GREGORIAN
BEGIN:VEVENT
DTSTART:20220513T210000Z
DTEND:20220513T220000Z
X-MICROSOFT-CDO-ALLDAYEVENT:FALSE
SUMMARY:City Street Advisory Board Meeting
DESCRIPTION:City Street Advisory Board Meeting\n\n4pm \n\nCity Hall
X-ALT-DESC;FMTTYPE=text/html:City Street Advisory Board Meeting<br />\n4pm&nbsp\;<br />\nCity Hall
LOCATION:
UID:e.2874.25077
SEQUENCE:3
DTSTAMP:20260425T161046Z
URL:https://fortscott.com/events/details/city-street-advisory-board-meeting-25077
END:VEVENT

END:VCALENDAR
