BEGIN:VCALENDAR
VERSION:2.0
PRODID:-//ChamberMaster//Event Calendar 2.0//EN
METHOD:PUBLISH
X-PUBLISHED-TTL:P3D
REFRESH-INTERVAL:P3D
CALSCALE:GREGORIAN
BEGIN:VEVENT
DTSTART:20211210T230000Z
DTEND:20211211T020000Z
X-MICROSOFT-CDO-ALLDAYEVENT:FALSE
SUMMARY:Cocoa & Caroling Late Night Shopping Event\, Downtown Fort Scott
DESCRIPTION:Support small and local shops in downtown by coming out and getting your Christmas shopping done. Enjoy carolers strolling the sidewalks and pick up your complimentary hot cocoa in front of Sunshine Boutique\n\nParticipating Stores\n\nAngie Dawn's Boutique\n\nBartelsmeyer Jewelry\n\nBids & Dibs\n\nHedgehog.Ink!\n\nLaree+Co.\n\nMain Street Gallery \n\nThe Rainbow Unicorn Boutique\n\nSunshine Boutique\n\nTreasure Hunt Flea Market\n\n+ More
X-ALT-DESC;FMTTYPE=text/html:<p class="_04xlpA direction-ltr align-center para-style-body" style="font-family: &quot\;YADikilXwcI 0&quot\;\, _fb_\, auto\; font-size: 42.9966px\; line-height: 1.11\;"><span style="font-size:18px\;"><span class="JsGRdQ">Support small and local shops in downtown by coming out and getting your Christmas shopping done. Enjoy carolers strolling the sidewalks and pick up your complimentary hot cocoa in front of</span><span class="JsGRdQ white-space-prewrap"> </span></span><span style="font-size:18px\;"><span class="JsGRdQ">Sunshine Boutique<br />\n<u><strong>Participating Stores</strong></u><br />\nAngie Dawn&#39\;s Boutique<br />\nBartelsmeyer Jewelry<br />\nBids &amp\; Dibs<br />\nHedgehog.Ink!<br />\nLaree+Co.<br />\nMain Street Gallery&nbsp\;<br />\nThe Rainbow Unicorn Boutique<br />\nSunshine Boutique<br />\nTreasure Hunt Flea Market<br />\n+ More</span></span></p>\n
LOCATION:Historic Downtown Fort Scott
UID:e.2874.18059
SEQUENCE:3
DTSTAMP:20260426T000615Z
URL:https://fortscott.com/events/details/cocoa-caroling-late-night-shopping-event-downtown-fort-scott-18059
END:VEVENT

END:VCALENDAR
