BEGIN:VCALENDAR
VERSION:2.0
PRODID:-//ChamberMaster//Event Calendar 2.0//EN
METHOD:PUBLISH
X-PUBLISHED-TTL:P3D
REFRESH-INTERVAL:P3D
CALSCALE:GREGORIAN
BEGIN:VEVENT
DTSTART:20180717T190000Z
DTEND:20180717T210000Z
X-MICROSOFT-CDO-ALLDAYEVENT:FALSE
SUMMARY:Community Bingo at Country Place Senior Living\, 3rd Tuesday of Each Month
DESCRIPTION:Residents and the public are invited the 3rd Tuesday of each month for Community Bingo at Country Place Senior Living\, 820 S. Horton St.
X-ALT-DESC;FMTTYPE=text/html:Residents and the public are invited the 3rd Tuesday of each month for Community Bingo at Country Place Senior Living\, 820 S. Horton St.
LOCATION:Country Place Senior Living\, 820 S. Horton St.
UID:e.2874.10477
SEQUENCE:3
DTSTAMP:20260424T170316Z
URL:https://fortscott.com/events/details/community-bingo-at-country-place-senior-living-3rd-tuesday-of-each-month-10477
END:VEVENT

END:VCALENDAR
