BEGIN:VCALENDAR
VERSION:2.0
PRODID:-//ChamberMaster//Event Calendar 2.0//EN
METHOD:PUBLISH
X-PUBLISHED-TTL:P3D
REFRESH-INTERVAL:P3D
CALSCALE:GREGORIAN
BEGIN:VEVENT
DTSTART:20220619T133000Z
DTEND:20220619T143000Z
X-MICROSOFT-CDO-ALLDAYEVENT:FALSE
SUMMARY:Community Christian Church\, Father’s Day Worship Service at LaRoche Complex
DESCRIPTION:Community Christian Church\, Father's Day Worship Service at LaRoche Complex
X-ALT-DESC;FMTTYPE=text/html:Community Christian Church\, Father&rsquo\;s Day Worship Service at LaRoche Complex
LOCATION:
UID:e.2874.25074
SEQUENCE:3
DTSTAMP:20260425T143911Z
URL:https://fortscott.com/events/details/community-christian-church-father-s-day-worship-service-at-laroche-complex-25074
END:VEVENT

END:VCALENDAR
